BEGIN:VCALENDAR
VERSION:2.0
PRODID:-//Very North County - ECPv6.15.13//NONSGML v1.0//EN
CALSCALE:GREGORIAN
METHOD:PUBLISH
X-WR-CALNAME:Very North County
X-ORIGINAL-URL:https://verynorthcounty.com
X-WR-CALDESC:Events for Very North County
REFRESH-INTERVAL;VALUE=DURATION:PT1H
X-Robots-Tag:noindex
X-PUBLISHED-TTL:PT1H
BEGIN:VTIMEZONE
TZID:UTC
BEGIN:STANDARD
TZOFFSETFROM:+0000
TZOFFSETTO:+0000
TZNAME:UTC
DTSTART:20230101T000000
END:STANDARD
END:VTIMEZONE
BEGIN:VEVENT
DTSTART;TZID=UTC:20240825T140000
DTEND;TZID=UTC:20240825T170000
DTSTAMP:20260425T043951
CREATED:20240816T015702Z
LAST-MODIFIED:20240822T230820Z
UID:3807-1724594400-1724605200@verynorthcounty.com
SUMMARY:Aperol in August: End of Summer Party
DESCRIPTION:
URL:https://verynorthcounty.com/event/aperol-in-august-end-of-summer-party/
LOCATION:20|Twenty\, 5480 Grand Pacific Drive\, Carlsbad\, CA\, 92008\, United States
CATEGORIES:Food & Wine,Party
ATTACH;FMTTYPE=image/jpeg:https://verynorthcounty.com/wp-content/uploads/2024/08/454393251_18446572552006872_6313938235276830275_n.jpg
END:VEVENT
END:VCALENDAR