BEGIN:VCALENDAR
VERSION:2.0
PRODID:-//Very North County - ECPv6.15.13//NONSGML v1.0//EN
CALSCALE:GREGORIAN
METHOD:PUBLISH
X-ORIGINAL-URL:https://verynorthcounty.com
X-WR-CALDESC:Events for Very North County
REFRESH-INTERVAL;VALUE=DURATION:PT1H
X-Robots-Tag:noindex
X-PUBLISHED-TTL:PT1H
BEGIN:VTIMEZONE
TZID:UTC
BEGIN:STANDARD
TZOFFSETFROM:+0000
TZOFFSETTO:+0000
TZNAME:UTC
DTSTART:20230101T000000
END:STANDARD
END:VTIMEZONE
BEGIN:VEVENT
DTSTART;TZID=UTC:20240401T210000
DTEND;TZID=UTC:20240401T233000
DTSTAMP:20260425T131911
CREATED:20240326T234707Z
LAST-MODIFIED:20240326T234707Z
UID:2289-1712005200-1712014200@verynorthcounty.com
SUMMARY:Melissa Etheridge
DESCRIPTION:
URL:https://verynorthcounty.com/event/melissa-etheridge/
LOCATION:Belly Up\, 143 S. Cedros Ave\, Solana Beach\, 92075\, United States
CATEGORIES:Concert
ATTACH;FMTTYPE=image/webp:https://verynorthcounty.com/wp-content/uploads/2024/03/190117_S02_0108_RW.webp
END:VEVENT
BEGIN:VEVENT
DTSTART;TZID=UTC:20240402T210000
DTEND;TZID=UTC:20240402T233000
DTSTAMP:20260425T131911
CREATED:20240326T234914Z
LAST-MODIFIED:20240326T234914Z
UID:2293-1712091600-1712100600@verynorthcounty.com
SUMMARY:Melissa Etheridge
DESCRIPTION:
URL:https://verynorthcounty.com/event/melissa-etheridge-2/
CATEGORIES:Concert
ATTACH;FMTTYPE=image/webp:https://verynorthcounty.com/wp-content/uploads/2024/03/190117_S02_0108_RW.webp
END:VEVENT
BEGIN:VEVENT
DTSTART;TZID=UTC:20240409T210000
DTEND;TZID=UTC:20240409T233000
DTSTAMP:20260425T131911
CREATED:20240326T235223Z
LAST-MODIFIED:20240326T235223Z
UID:2295-1712696400-1712705400@verynorthcounty.com
SUMMARY:Joan Osborne
DESCRIPTION:
URL:https://verynorthcounty.com/event/joan-osborne/
LOCATION:Belly Up\, 143 S. Cedros Ave\, Solana Beach\, 92075\, United States
CATEGORIES:Concert
ATTACH;FMTTYPE=image/jpeg:https://verynorthcounty.com/wp-content/uploads/2024/03/DSC3580-Edit-scaled-1.jpeg
END:VEVENT
BEGIN:VEVENT
DTSTART;TZID=UTC:20240419T210000
DTEND;TZID=UTC:20240419T233000
DTSTAMP:20260425T131911
CREATED:20240326T235601Z
LAST-MODIFIED:20240326T235601Z
UID:2298-1713560400-1713569400@verynorthcounty.com
SUMMARY:Z-Trip
DESCRIPTION:
URL:https://verynorthcounty.com/event/z-trip/
LOCATION:Belly Up\, 143 S. Cedros Ave\, Solana Beach\, 92075\, United States
CATEGORIES:Concert
ATTACH;FMTTYPE=image/jpeg:https://verynorthcounty.com/wp-content/uploads/2024/03/8574569.jpeg
END:VEVENT
BEGIN:VEVENT
DTSTART;TZID=UTC:20240424T210000
DTEND;TZID=UTC:20240424T233000
DTSTAMP:20260425T131911
CREATED:20240326T235836Z
LAST-MODIFIED:20240326T235836Z
UID:2301-1713992400-1714001400@verynorthcounty.com
SUMMARY:Charles Wesley Godwin
DESCRIPTION:
URL:https://verynorthcounty.com/event/charles-wesley-godwin/
LOCATION:Belly Up\, 143 S. Cedros Ave\, Solana Beach\, 92075\, United States
CATEGORIES:Concert
ATTACH;FMTTYPE=image/jpeg:https://verynorthcounty.com/wp-content/uploads/2024/03/Charles-westly-09222371-b40f75894f9344e9b45bc81d1e539d7a.jpeg
END:VEVENT
BEGIN:VEVENT
DTSTART;TZID=UTC:20240425T210000
DTEND;TZID=UTC:20240425T233000
DTSTAMP:20260425T131911
CREATED:20240327T000006Z
LAST-MODIFIED:20240327T000006Z
UID:2304-1714078800-1714087800@verynorthcounty.com
SUMMARY:Charles Wesley Godwin
DESCRIPTION:
URL:https://verynorthcounty.com/event/charles-wesley-godwin-2/
LOCATION:Belly Up\, 143 S. Cedros Ave\, Solana Beach\, 92075\, United States
CATEGORIES:Concert
ATTACH;FMTTYPE=image/jpeg:https://verynorthcounty.com/wp-content/uploads/2024/03/Charles-westly-09222371-b40f75894f9344e9b45bc81d1e539d7a.jpeg
END:VEVENT
BEGIN:VEVENT
DTSTART;TZID=UTC:20240427T210000
DTEND;TZID=UTC:20240427T233000
DTSTAMP:20260425T131911
CREATED:20240327T000252Z
LAST-MODIFIED:20240327T000252Z
UID:2306-1714251600-1714260600@verynorthcounty.com
SUMMARY:Rufus Wainwright
DESCRIPTION:
URL:https://verynorthcounty.com/event/rufus-wainwright/
LOCATION:Belly Up\, 143 S. Cedros Ave\, Solana Beach\, 92075\, United States
CATEGORIES:Concert
ATTACH;FMTTYPE=image/webp:https://verynorthcounty.com/wp-content/uploads/2024/03/rufus-wainwright-2.webp
END:VEVENT
END:VCALENDAR