BEGIN:VCALENDAR
VERSION:2.0
PRODID:-//Very North County - ECPv6.15.13//NONSGML v1.0//EN
CALSCALE:GREGORIAN
METHOD:PUBLISH
X-WR-CALNAME:Very North County
X-ORIGINAL-URL:https://verynorthcounty.com
X-WR-CALDESC:Events for Very North County
REFRESH-INTERVAL;VALUE=DURATION:PT1H
X-Robots-Tag:noindex
X-PUBLISHED-TTL:PT1H
BEGIN:VTIMEZONE
TZID:UTC
BEGIN:STANDARD
TZOFFSETFROM:+0000
TZOFFSETTO:+0000
TZNAME:UTC
DTSTART:20230101T000000
END:STANDARD
END:VTIMEZONE
BEGIN:VEVENT
DTSTART;TZID=UTC:20240725T193000
DTEND;TZID=UTC:20240725T230000
DTSTAMP:20260425T032433
CREATED:20240712T035333Z
LAST-MODIFIED:20240712T035502Z
UID:3542-1721935800-1721948400@verynorthcounty.com
SUMMARY:Michael Franti & Spearhead
DESCRIPTION:
URL:https://verynorthcounty.com/event/michael-franti-spearhead/
LOCATION:The Sound\, 2260 Jimmy Durante Blvd\, Del Mar\, 92014\, United States
CATEGORIES:Concert
ATTACH;FMTTYPE=image/jpeg:https://verynorthcounty.com/wp-content/uploads/2024/07/michael-franti-the-sound-del-mar.jpg
END:VEVENT
END:VCALENDAR