BEGIN:VCALENDAR
VERSION:2.0
PRODID:-//Very North County - ECPv6.15.13//NONSGML v1.0//EN
CALSCALE:GREGORIAN
METHOD:PUBLISH
X-WR-CALNAME:Very North County
X-ORIGINAL-URL:https://verynorthcounty.com
X-WR-CALDESC:Events for Very North County
REFRESH-INTERVAL;VALUE=DURATION:PT1H
X-Robots-Tag:noindex
X-PUBLISHED-TTL:PT1H
BEGIN:VTIMEZONE
TZID:UTC
BEGIN:STANDARD
TZOFFSETFROM:+0000
TZOFFSETTO:+0000
TZNAME:UTC
DTSTART:20240101T000000
END:STANDARD
END:VTIMEZONE
BEGIN:VTIMEZONE
TZID:America/Los_Angeles
BEGIN:DAYLIGHT
TZOFFSETFROM:-0800
TZOFFSETTO:-0700
TZNAME:PDT
DTSTART:20240310T100000
END:DAYLIGHT
BEGIN:STANDARD
TZOFFSETFROM:-0700
TZOFFSETTO:-0800
TZNAME:PST
DTSTART:20241103T090000
END:STANDARD
BEGIN:DAYLIGHT
TZOFFSETFROM:-0800
TZOFFSETTO:-0700
TZNAME:PDT
DTSTART:20250309T100000
END:DAYLIGHT
BEGIN:STANDARD
TZOFFSETFROM:-0700
TZOFFSETTO:-0800
TZNAME:PST
DTSTART:20251102T090000
END:STANDARD
BEGIN:DAYLIGHT
TZOFFSETFROM:-0800
TZOFFSETTO:-0700
TZNAME:PDT
DTSTART:20260308T100000
END:DAYLIGHT
BEGIN:STANDARD
TZOFFSETFROM:-0700
TZOFFSETTO:-0800
TZNAME:PST
DTSTART:20261101T090000
END:STANDARD
END:VTIMEZONE
BEGIN:VEVENT
DTSTART;TZID=UTC:20250611T110000
DTEND;TZID=UTC:20250706T230000
DTSTAMP:20260423T210041
CREATED:20240501T003647Z
LAST-MODIFIED:20250707T163727Z
UID:2533-1749639600-1751842800@verynorthcounty.com
SUMMARY:San Diego County Fair
DESCRIPTION:
URL:https://verynorthcounty.com/event/san-diego-county-fair/
LOCATION:Del Mar Fairgrounds\, 2260 Jimmy Durante Blvd\, Del Mar\, CA\, 92014\, United States
CATEGORIES:Fair
ATTACH;FMTTYPE=image/jpeg:https://verynorthcounty.com/wp-content/uploads/2024/04/san-diego-county-fair-3741fafa.jpeg
END:VEVENT
BEGIN:VEVENT
DTSTART;TZID=America/Los_Angeles:20250703T190000
DTEND;TZID=America/Los_Angeles:20250703T230000
DTSTAMP:20260423T210041
CREATED:20250701T220818Z
LAST-MODIFIED:20250701T220818Z
UID:5719-1751569200-1751583600@verynorthcounty.com
SUMMARY:Party in the Plaza
DESCRIPTION:
URL:https://verynorthcounty.com/event/party-in-the-plaza/
LOCATION:Frontwave Arena\, 3475 Hero Drive\, Oceanside\, CA\, 92056
CATEGORIES:Holiday,Party
ATTACH;FMTTYPE=image/webp:https://verynorthcounty.com/wp-content/uploads/2025/07/FWA_3rdjulyParty_v4_web_776x406-d8cb25128d.webp
END:VEVENT
BEGIN:VEVENT
DTSTART;TZID=America/Los_Angeles:20250710T190000
DTEND;TZID=America/Los_Angeles:20250710T230000
DTSTAMP:20260423T210041
CREATED:20250701T220633Z
LAST-MODIFIED:20250701T220633Z
UID:5716-1752174000-1752188400@verynorthcounty.com
SUMMARY:Dwight Yoakam
DESCRIPTION:
URL:https://verynorthcounty.com/event/dwight-yoakam/
LOCATION:Frontwave Arena\, 3475 Hero Drive\, Oceanside\, CA\, 92056
CATEGORIES:Concert
ATTACH;FMTTYPE=image/webp:https://verynorthcounty.com/wp-content/uploads/2025/07/download.webp
END:VEVENT
BEGIN:VEVENT
DTSTART;TZID=America/Los_Angeles:20250711T193000
DTEND;TZID=America/Los_Angeles:20250711T220000
DTSTAMP:20260423T210041
CREATED:20250704T005920Z
LAST-MODIFIED:20250704T005920Z
UID:5773-1752262200-1752271200@verynorthcounty.com
SUMMARY:Legally Blonde the Musical
DESCRIPTION:
URL:https://verynorthcounty.com/event/legally-blonde-the-musical/
LOCATION:Howard Brubeck Theater\, 1140 West Mission Road\, San Marcos\, CA\, 92069\, United States
CATEGORIES:Theater
ATTACH;FMTTYPE=image/png:https://verynorthcounty.com/wp-content/uploads/2025/07/Do-not-miss-1.png
END:VEVENT
BEGIN:VEVENT
DTSTART;TZID=UTC:20250718T113000
DTEND;TZID=UTC:20250718T170000
DTSTAMP:20260423T210041
CREATED:20240516T095252Z
LAST-MODIFIED:20250623T164545Z
UID:2584-1752838200-1752858000@verynorthcounty.com
SUMMARY:Del Mar Racetrack Opening Day
DESCRIPTION:
URL:https://verynorthcounty.com/event/opening-day/
LOCATION:Del Mar Fairgrounds\, 2260 Jimmy Durante Blvd\, Del Mar\, CA\, 92014\, United States
CATEGORIES:Attraction,Race
ATTACH;FMTTYPE=image/jpeg:https://verynorthcounty.com/wp-content/uploads/2024/05/23-0720-DelMar-Openingday-00133-EVERS.jpeg
END:VEVENT
BEGIN:VEVENT
DTSTART;TZID=America/Los_Angeles:20250718T170000
DTEND;TZID=America/Los_Angeles:20250718T200000
DTSTAMP:20260423T210041
CREATED:20250701T221547Z
LAST-MODIFIED:20250701T221703Z
UID:5729-1752858000-1752868800@verynorthcounty.com
SUMMARY:Movie Night: Finding Nemo
DESCRIPTION:
URL:https://verynorthcounty.com/event/movie-night-finding-nemo/
LOCATION:North City\, 255 Redel Road\, San Marcos\, CA\, 92078
CATEGORIES:Movie Night
ATTACH;FMTTYPE=image/webp:https://verynorthcounty.com/wp-content/uploads/2025/07/K9A5966-scaled-e1751408131875.webp
END:VEVENT
BEGIN:VEVENT
DTSTART;TZID=UTC:20250718T170000
DTEND;TZID=UTC:20250718T220000
DTSTAMP:20260423T210041
CREATED:20240617T013258Z
LAST-MODIFIED:20250624T002829Z
UID:3203-1752858000-1752876000@verynorthcounty.com
SUMMARY:Monarch's 4th Annual Opening Day Bash
DESCRIPTION:
URL:https://verynorthcounty.com/event/monarchs-4th-annual-opening-day-bash/
LOCATION:Monarch Ocean Pub\, 1555 Camino Del Mar #Suite 322\, Del Mar\, CA\, 92014\, United States
CATEGORIES:Party
ATTACH;FMTTYPE=image/png:https://verynorthcounty.com/wp-content/uploads/2024/06/Screen-Shot-2024-06-16-at-11.32.36-AM.png
END:VEVENT
BEGIN:VEVENT
DTSTART;TZID=UTC:20250718T170000
DTEND;TZID=UTC:20250718T220000
DTSTAMP:20260423T210041
CREATED:20240617T013939Z
LAST-MODIFIED:20250624T002923Z
UID:3208-1752858000-1752876000@verynorthcounty.com
SUMMARY:L'Auberge Opening Day After Party
DESCRIPTION:
URL:https://verynorthcounty.com/event/lauberge-opening-day-after-party/
LOCATION:L’Auberge Del Mar\, 1540 Camino Del Mar\, Del Mar\, CA\, 92014\, United States
CATEGORIES:Party
ATTACH;FMTTYPE=image/jpeg:https://verynorthcounty.com/wp-content/uploads/2024/06/after-party-hero.jpeg
END:VEVENT
BEGIN:VEVENT
DTSTART;TZID=UTC:20250718T180000
DTEND;TZID=UTC:20250718T220000
DTSTAMP:20260423T210041
CREATED:20240608T235013Z
LAST-MODIFIED:20250623T165023Z
UID:3031-1752861600-1752876000@verynorthcounty.com
SUMMARY:The After Pony Party
DESCRIPTION:
URL:https://verynorthcounty.com/event/the-after-pony-party/
LOCATION:Rancho Valencia Resort & Spa\, 5921 Valencia Cir\, Rancho Santa Fe\, CA\, 92067\, United States
CATEGORIES:Party
ATTACH;FMTTYPE=image/jpeg:https://verynorthcounty.com/wp-content/uploads/2024/06/RV-party.jpeg
END:VEVENT
BEGIN:VEVENT
DTSTART;TZID=UTC:20250719T130000
DTEND;TZID=UTC:20250719T170000
DTSTAMP:20260423T210041
CREATED:20240617T014738Z
LAST-MODIFIED:20250623T164747Z
UID:3212-1752930000-1752944400@verynorthcounty.com
SUMMARY:Beer Festival
DESCRIPTION:
URL:https://verynorthcounty.com/event/beer-festival/
LOCATION:Del Mar Fairgrounds\, 2260 Jimmy Durante Blvd\, Del Mar\, CA\, 92014\, United States
CATEGORIES:Festival,Food & Wine
ATTACH;FMTTYPE=image/jpeg:https://verynorthcounty.com/wp-content/uploads/2024/06/23-0720-PARTY-EVERS.jpeg
END:VEVENT
END:VCALENDAR