BEGIN:VCALENDAR
VERSION:2.0
PRODID:-//Very North County - ECPv6.15.13//NONSGML v1.0//EN
CALSCALE:GREGORIAN
METHOD:PUBLISH
X-WR-CALNAME:Very North County
X-ORIGINAL-URL:https://verynorthcounty.com
X-WR-CALDESC:Events for Very North County
REFRESH-INTERVAL;VALUE=DURATION:PT1H
X-Robots-Tag:noindex
X-PUBLISHED-TTL:PT1H
BEGIN:VTIMEZONE
TZID:UTC
BEGIN:STANDARD
TZOFFSETFROM:+0000
TZOFFSETTO:+0000
TZNAME:UTC
DTSTART:20230101T000000
END:STANDARD
END:VTIMEZONE
BEGIN:VEVENT
DTSTART;TZID=UTC:20241115T080000
DTEND;TZID=UTC:20250105T210000
DTSTAMP:20260424T065844
CREATED:20241227T045742Z
LAST-MODIFIED:20241227T045742Z
UID:4544-1731657600-1736110800@verynorthcounty.com
SUMMARY:Lightscape
DESCRIPTION:
URL:https://verynorthcounty.com/event/lightscape/
LOCATION:San Diego Botanic Garden\, 230 Quail Gardens Drive\, Encinitas\, 92024\, United States
CATEGORIES:Attraction
ATTACH;FMTTYPE=image/jpeg:https://verynorthcounty.com/wp-content/uploads/2023/11/LightscapeLAb-scaled-1.jpg
END:VEVENT
BEGIN:VEVENT
DTSTART;TZID=UTC:20241202T193000
DTEND;TZID=UTC:20241202T223000
DTSTAMP:20260424T065844
CREATED:20241127T043917Z
LAST-MODIFIED:20241127T043917Z
UID:4453-1733167800-1733178600@verynorthcounty.com
SUMMARY:Mannheim Steamroller Christmas
DESCRIPTION:
URL:https://verynorthcounty.com/event/mannheim-steamroller-christmas/
LOCATION:Escondido Center for the Arts\, 340 N Escondido Blvd\, Escondido\, CA\, 92025\, United States
CATEGORIES:Attraction,Concert,Fair
ATTACH;FMTTYPE=image/png:https://verynorthcounty.com/wp-content/uploads/2024/11/Screen-Shot-2024-11-26-at-12.38.35-PM.png
END:VEVENT
BEGIN:VEVENT
DTSTART;TZID=UTC:20241204T200000
DTEND;TZID=UTC:20241204T230000
DTSTAMP:20260424T065844
CREATED:20241127T043543Z
LAST-MODIFIED:20241127T043543Z
UID:4450-1733342400-1733353200@verynorthcounty.com
SUMMARY:Dinosaur Jr.
DESCRIPTION:
URL:https://verynorthcounty.com/event/dinosaur-jr/
LOCATION:The Sound\, 2260 Jimmy Durante Blvd\, Del Mar\, 92014\, United States
CATEGORIES:Attraction,Concert,Fair
ATTACH;FMTTYPE=image/png:https://verynorthcounty.com/wp-content/uploads/2024/11/Screen-Shot-2024-11-26-at-12.35.05-PM.png
END:VEVENT
BEGIN:VEVENT
DTSTART;TZID=UTC:20241206T160000
DTEND;TZID=UTC:20241207T170000
DTSTAMP:20260424T065844
CREATED:20241127T052658Z
LAST-MODIFIED:20241127T052658Z
UID:4459-1733500800-1733590800@verynorthcounty.com
SUMMARY:Pizza Port Carlsbad's 26th Annual Strong Ale Festival
DESCRIPTION:
URL:https://verynorthcounty.com/event/pizza-port-carlsbads-26th-annual-strong-ale-festival/
LOCATION:Pizza Port Carlsbad\, 571 Carlsbad Village Drive\, Carlsbad\, CA\, 92008\, United States
CATEGORIES:Food & Wine
ATTACH;FMTTYPE=image/png:https://verynorthcounty.com/wp-content/uploads/2024/11/Screen-Shot-2024-11-26-at-1.26.42-PM.png
END:VEVENT
BEGIN:VEVENT
DTSTART;TZID=UTC:20241207T190000
DTEND;TZID=UTC:20241207T230000
DTSTAMP:20260424T065844
CREATED:20240917T133125Z
LAST-MODIFIED:20240917T133125Z
UID:4145-1733598000-1733612400@verynorthcounty.com
SUMMARY:KSON Country Christmas
DESCRIPTION:
URL:https://verynorthcounty.com/event/kson-country-christmas/
LOCATION:Frontwave Arena\, 3475 Hero Drive\, Oceanside\, CA\, 92056
CATEGORIES:Concert
ATTACH;FMTTYPE=image/png:https://verynorthcounty.com/wp-content/uploads/2024/09/776x406-b114d2d75d.png
END:VEVENT
BEGIN:VEVENT
DTSTART;TZID=UTC:20241208T110000
DTEND;TZID=UTC:20241208T160000
DTSTAMP:20260424T065844
CREATED:20240924T134459Z
LAST-MODIFIED:20240924T134459Z
UID:4248-1733655600-1733673600@verynorthcounty.com
SUMMARY:Makers & Shakers Small Business Holiday Market
DESCRIPTION:
URL:https://verynorthcounty.com/event/makers-shakers-small-business-holiday-market/
LOCATION:Rancho Guejito Vineyard\, 17224 San Pasqual Valley Rd\, Escondido\, CA\, 92027
CATEGORIES:Festival
ATTACH;FMTTYPE=image/png:https://verynorthcounty.com/wp-content/uploads/2024/09/12-SquarePost_MakersShakersDec8.png
END:VEVENT
BEGIN:VEVENT
DTSTART;TZID=UTC:20241226T080000
DTEND;TZID=UTC:20250105T210000
DTSTAMP:20260424T065844
CREATED:20241227T050159Z
LAST-MODIFIED:20241227T050216Z
UID:4547-1735200000-1736110800@verynorthcounty.com
SUMMARY:Wild Holidays at the San Diego Zoo Safari Park
DESCRIPTION:
URL:https://verynorthcounty.com/event/wild-holidays-at-the-san-diego-zoo-safari-park/
LOCATION:SD Zoo Safari Park\, 15500 San Pasqual Valley Rd\, Escondido\, CA\, 92027\, United States
CATEGORIES:Attraction
ATTACH;FMTTYPE=image/jpeg:https://verynorthcounty.com/wp-content/uploads/2024/12/sd-safari-park-wild-holidays-lights.jpg
END:VEVENT
END:VCALENDAR