BEGIN:VCALENDAR
VERSION:2.0
PRODID:-//Very North County - ECPv6.15.13//NONSGML v1.0//EN
CALSCALE:GREGORIAN
METHOD:PUBLISH
X-ORIGINAL-URL:https://verynorthcounty.com
X-WR-CALDESC:Events for Very North County
REFRESH-INTERVAL;VALUE=DURATION:PT1H
X-Robots-Tag:noindex
X-PUBLISHED-TTL:PT1H
BEGIN:VTIMEZONE
TZID:UTC
BEGIN:STANDARD
TZOFFSETFROM:+0000
TZOFFSETTO:+0000
TZNAME:UTC
DTSTART:20230101T000000
END:STANDARD
END:VTIMEZONE
BEGIN:VEVENT
DTSTART;TZID=UTC:20240704T170000
DTEND;TZID=UTC:20240704T213000
DTSTAMP:20260424T133732
CREATED:20240618T220500Z
LAST-MODIFIED:20240618T220500Z
UID:3266-1720112400-1720128600@verynorthcounty.com
SUMMARY:59th Annual Independence Day Festival
DESCRIPTION:
URL:https://verynorthcounty.com/event/59th-annual-independence-day-festival/
LOCATION:Escondido Center for the Arts\, 340 N Escondido Blvd\, Escondido\, CA\, 92025\, United States
CATEGORIES:Festival
ATTACH;FMTTYPE=image/jpeg:https://verynorthcounty.com/wp-content/uploads/2024/06/FOJ24.jpeg
END:VEVENT
BEGIN:VEVENT
DTSTART;TZID=UTC:20240708T173000
DTEND;TZID=UTC:20240708T203000
DTSTAMP:20260424T133732
CREATED:20240609T061256Z
LAST-MODIFIED:20240609T061256Z
UID:3039-1720459800-1720470600@verynorthcounty.com
SUMMARY:Playing with Fire Dinner Series
DESCRIPTION:
URL:https://verynorthcounty.com/event/playing-with-fire-dinner-series/
LOCATION:The Lodge at Torrey Pines\, 11480 North Torrey Pines Road\, La Jolla\, CA\, 92037\, United States
CATEGORIES:Food & Wine
ATTACH;FMTTYPE=image/webp:https://verynorthcounty.com/wp-content/uploads/2024/06/shcpsiv8ypdm04bt8bc9.webp
END:VEVENT
BEGIN:VEVENT
DTSTART;TZID=UTC:20240717T200000
DTEND;TZID=UTC:20240717T230000
DTSTAMP:20260424T133732
CREATED:20240609T062024Z
LAST-MODIFIED:20240609T062024Z
UID:3044-1721246400-1721257200@verynorthcounty.com
SUMMARY:Toad the Wet Sprocket
DESCRIPTION:
URL:https://verynorthcounty.com/event/toad-the-wet-sprocket/
LOCATION:The Sound\, 2260 Jimmy Durante Blvd\, Del Mar\, 92014\, United States
CATEGORIES:Concert
ATTACH;FMTTYPE=image/jpeg:https://verynorthcounty.com/wp-content/uploads/2024/06/toad-the-wet-sprocket-the-sound-del-mar.jpeg
END:VEVENT
BEGIN:VEVENT
DTSTART;TZID=UTC:20240720T180000
DTEND;TZID=UTC:20240720T180000
DTSTAMP:20260424T133732
CREATED:20240608T234311Z
LAST-MODIFIED:20240608T234354Z
UID:3026-1721498400-1721498400@verynorthcounty.com
SUMMARY:Unbridled at The Inn: An Opening Day After Party
DESCRIPTION:
URL:https://verynorthcounty.com/event/unbridled-at-the-inn-an-opening-day-after-party/
LOCATION:The Inn at Rancho Santa Fe\, 5951 Linea Del Cielo\, Rancho Santa Fe\,\, CA\, 92067\, United States
CATEGORIES:Party
ATTACH;FMTTYPE=image/jpeg:https://verynorthcounty.com/wp-content/uploads/2024/06/TheInn-Unbridled_1920x1080.jpeg
END:VEVENT
BEGIN:VEVENT
DTSTART;TZID=UTC:20240723T160000
DTEND;TZID=UTC:20240723T183000
DTSTAMP:20260424T133732
CREATED:20240716T003149Z
LAST-MODIFIED:20240716T003149Z
UID:3664-1721750400-1721759400@verynorthcounty.com
SUMMARY:Plantscape! A Boundary-Bending Dinner Series
DESCRIPTION:
URL:https://verynorthcounty.com/event/plantscape-a-boundary-bending-dinner-series/
LOCATION:The Plot\, 1733 S Coast Hwy\, Oceanside\, 92054\, United States
CATEGORIES:Food & Wine
ATTACH;FMTTYPE=image/jpeg:https://verynorthcounty.com/wp-content/uploads/2024/07/plotrestaurant_kimberlymotos-19-1-scaled.jpg
END:VEVENT
BEGIN:VEVENT
DTSTART;TZID=UTC:20240725T193000
DTEND;TZID=UTC:20240725T230000
DTSTAMP:20260424T133732
CREATED:20240712T035333Z
LAST-MODIFIED:20240712T035502Z
UID:3542-1721935800-1721948400@verynorthcounty.com
SUMMARY:Michael Franti & Spearhead
DESCRIPTION:
URL:https://verynorthcounty.com/event/michael-franti-spearhead/
LOCATION:The Sound\, 2260 Jimmy Durante Blvd\, Del Mar\, 92014\, United States
CATEGORIES:Concert
ATTACH;FMTTYPE=image/jpeg:https://verynorthcounty.com/wp-content/uploads/2024/07/michael-franti-the-sound-del-mar.jpg
END:VEVENT
BEGIN:VEVENT
DTSTART;TZID=UTC:20240726T160000
DTEND;TZID=UTC:20240727T210000
DTSTAMP:20260424T133732
CREATED:20240617T012911Z
LAST-MODIFIED:20240617T012911Z
UID:3199-1722009600-1722114000@verynorthcounty.com
SUMMARY:Mesa Agricola Farm-to-Table Dinner
DESCRIPTION:
URL:https://verynorthcounty.com/event/mesa-agricola-farm-to-table-dinner/
LOCATION:Rio Del Rey Farm\, Valley Center\, CA\, United States
CATEGORIES:Food & Wine
ATTACH;FMTTYPE=image/webp:https://verynorthcounty.com/wp-content/uploads/2024/06/zToBkxt-2000x2000-1-scaled.webp
END:VEVENT
BEGIN:VEVENT
DTSTART;TZID=UTC:20240727T200000
DTEND;TZID=UTC:20240727T230000
DTSTAMP:20260424T133732
CREATED:20240712T035839Z
LAST-MODIFIED:20240712T035839Z
UID:3545-1722110400-1722121200@verynorthcounty.com
SUMMARY:Cracker
DESCRIPTION:
URL:https://verynorthcounty.com/event/cracker/
LOCATION:Belly Up\, 143 S. Cedros Ave\, Solana Beach\, 92075\, United States
CATEGORIES:Concert
ATTACH;FMTTYPE=image/jpeg:https://verynorthcounty.com/wp-content/uploads/2024/07/cracker_IGSQ.jpg
END:VEVENT
END:VCALENDAR