BEGIN:VCALENDAR
VERSION:2.0
PRODID:-//Very North County - ECPv6.15.13//NONSGML v1.0//EN
CALSCALE:GREGORIAN
METHOD:PUBLISH
X-WR-CALNAME:Very North County
X-ORIGINAL-URL:https://verynorthcounty.com
X-WR-CALDESC:Events for Very North County
REFRESH-INTERVAL;VALUE=DURATION:PT1H
X-Robots-Tag:noindex
X-PUBLISHED-TTL:PT1H
BEGIN:VTIMEZONE
TZID:UTC
BEGIN:STANDARD
TZOFFSETFROM:+0000
TZOFFSETTO:+0000
TZNAME:UTC
DTSTART:20220101T000000
END:STANDARD
END:VTIMEZONE
BEGIN:VEVENT
DTSTART;TZID=UTC:20240622T113000
DTEND;TZID=UTC:20240622T200000
DTSTAMP:20260425T052921
CREATED:20240608T233415Z
LAST-MODIFIED:20240608T233415Z
UID:3022-1719055800-1719086400@verynorthcounty.com
SUMMARY:Summer Fun on the 101
DESCRIPTION:
URL:https://verynorthcounty.com/event/summer-fun-on-the-101/
LOCATION:Leucadia Roadside Park\, 860 N Coast Hwy 101\, Encomotas\, CA\, 92024\, United States
CATEGORIES:Concert
ATTACH;FMTTYPE=image/png:https://verynorthcounty.com/wp-content/uploads/2024/06/Screen-Shot-2024-06-08-at-9.32.36-AM.png
END:VEVENT
BEGIN:VEVENT
DTSTART;TZID=UTC:20240620T180000
DTEND;TZID=UTC:20240620T200000
DTSTAMP:20260425T052921
CREATED:20240609T053526Z
LAST-MODIFIED:20240609T061655Z
UID:3035-1718906400-1718913600@verynorthcounty.com
SUMMARY:Tequila Tasting Event at 20 | TWENTY
DESCRIPTION:
URL:https://verynorthcounty.com/event/tequila-tasting-event-at-20-twenty/
LOCATION:The Westin Carlsbad Resort\, 5480 Grand Pacific Dr\, Carlsvad\, CA\, 92008\, United States
CATEGORIES:Food & Wine
ATTACH;FMTTYPE=image/jpeg:https://verynorthcounty.com/wp-content/uploads/2024/06/IMG_2601-2-e1717886275295.jpg
END:VEVENT
BEGIN:VEVENT
DTSTART;TZID=UTC:20240522T190000
DTEND;TZID=UTC:20240522T230000
DTSTAMP:20260425T052921
CREATED:20240516T094256Z
LAST-MODIFIED:20240516T094638Z
UID:2571-1716404400-1716418800@verynorthcounty.com
SUMMARY:Pete Yorn
DESCRIPTION:
URL:https://verynorthcounty.com/event/pete-york/
LOCATION:Belly Up\, 143 S. Cedros Ave\, Solana Beach\, 92075\, United States
CATEGORIES:Concert
ATTACH;FMTTYPE=image/webp:https://verynorthcounty.com/wp-content/uploads/2024/05/Pete-by-Beth-day-of-shoot-2.webp
END:VEVENT
BEGIN:VEVENT
DTSTART;TZID=UTC:20240503T150000
DTEND;TZID=UTC:20240505T220000
DTSTAMP:20260425T052921
CREATED:20240501T002919Z
LAST-MODIFIED:20240501T002919Z
UID:2526-1714748400-1714946400@verynorthcounty.com
SUMMARY:Foodieland Night Market
DESCRIPTION:
URL:https://verynorthcounty.com/event/foodieland-night-market/
LOCATION:Del Mar Fairgrounds\, 2260 Jimmy Durante Blvd\, Del Mar\, CA\, 92014\, United States
CATEGORIES:Festival,Food & Wine
ATTACH;FMTTYPE=image/jpeg:https://verynorthcounty.com/wp-content/uploads/2024/04/Foodieland_1080x1080.jpeg
END:VEVENT
BEGIN:VEVENT
DTSTART;TZID=UTC:20240427T210000
DTEND;TZID=UTC:20240427T233000
DTSTAMP:20260425T052921
CREATED:20240327T000252Z
LAST-MODIFIED:20240327T000252Z
UID:2306-1714251600-1714260600@verynorthcounty.com
SUMMARY:Rufus Wainwright
DESCRIPTION:
URL:https://verynorthcounty.com/event/rufus-wainwright/
LOCATION:Belly Up\, 143 S. Cedros Ave\, Solana Beach\, 92075\, United States
CATEGORIES:Concert
ATTACH;FMTTYPE=image/webp:https://verynorthcounty.com/wp-content/uploads/2024/03/rufus-wainwright-2.webp
END:VEVENT
BEGIN:VEVENT
DTSTART;TZID=UTC:20240425T210000
DTEND;TZID=UTC:20240425T233000
DTSTAMP:20260425T052921
CREATED:20240327T000006Z
LAST-MODIFIED:20240327T000006Z
UID:2304-1714078800-1714087800@verynorthcounty.com
SUMMARY:Charles Wesley Godwin
DESCRIPTION:
URL:https://verynorthcounty.com/event/charles-wesley-godwin-2/
LOCATION:Belly Up\, 143 S. Cedros Ave\, Solana Beach\, 92075\, United States
CATEGORIES:Concert
ATTACH;FMTTYPE=image/jpeg:https://verynorthcounty.com/wp-content/uploads/2024/03/Charles-westly-09222371-b40f75894f9344e9b45bc81d1e539d7a.jpeg
END:VEVENT
BEGIN:VEVENT
DTSTART;TZID=UTC:20240424T210000
DTEND;TZID=UTC:20240424T233000
DTSTAMP:20260425T052921
CREATED:20240326T235836Z
LAST-MODIFIED:20240326T235836Z
UID:2301-1713992400-1714001400@verynorthcounty.com
SUMMARY:Charles Wesley Godwin
DESCRIPTION:
URL:https://verynorthcounty.com/event/charles-wesley-godwin/
LOCATION:Belly Up\, 143 S. Cedros Ave\, Solana Beach\, 92075\, United States
CATEGORIES:Concert
ATTACH;FMTTYPE=image/jpeg:https://verynorthcounty.com/wp-content/uploads/2024/03/Charles-westly-09222371-b40f75894f9344e9b45bc81d1e539d7a.jpeg
END:VEVENT
BEGIN:VEVENT
DTSTART;TZID=UTC:20240419T210000
DTEND;TZID=UTC:20240419T233000
DTSTAMP:20260425T052921
CREATED:20240326T235601Z
LAST-MODIFIED:20240326T235601Z
UID:2298-1713560400-1713569400@verynorthcounty.com
SUMMARY:Z-Trip
DESCRIPTION:
URL:https://verynorthcounty.com/event/z-trip/
LOCATION:Belly Up\, 143 S. Cedros Ave\, Solana Beach\, 92075\, United States
CATEGORIES:Concert
ATTACH;FMTTYPE=image/jpeg:https://verynorthcounty.com/wp-content/uploads/2024/03/8574569.jpeg
END:VEVENT
BEGIN:VEVENT
DTSTART;TZID=UTC:20240417T210000
DTEND;TZID=UTC:20240417T233000
DTSTAMP:20260425T052921
CREATED:20240327T000935Z
LAST-MODIFIED:20240327T000935Z
UID:2312-1713387600-1713396600@verynorthcounty.com
SUMMARY:Taking Back Sunday
DESCRIPTION:
URL:https://verynorthcounty.com/event/taking-back-sunday/
LOCATION:The Sound\, 2260 Jimmy Durante Blvd\, Del Mar\, 92014\, United States
CATEGORIES:Concert
ATTACH;FMTTYPE=image/jpeg:https://verynorthcounty.com/wp-content/uploads/2024/03/ab6761610000517424bdac8749defae31e78a82d.jpeg
END:VEVENT
BEGIN:VEVENT
DTSTART;TZID=UTC:20240409T210000
DTEND;TZID=UTC:20240409T233000
DTSTAMP:20260425T052921
CREATED:20240326T235223Z
LAST-MODIFIED:20240326T235223Z
UID:2295-1712696400-1712705400@verynorthcounty.com
SUMMARY:Joan Osborne
DESCRIPTION:
URL:https://verynorthcounty.com/event/joan-osborne/
LOCATION:Belly Up\, 143 S. Cedros Ave\, Solana Beach\, 92075\, United States
CATEGORIES:Concert
ATTACH;FMTTYPE=image/jpeg:https://verynorthcounty.com/wp-content/uploads/2024/03/DSC3580-Edit-scaled-1.jpeg
END:VEVENT
BEGIN:VEVENT
DTSTART;TZID=UTC:20240406T210000
DTEND;TZID=UTC:20240406T233000
DTSTAMP:20260425T052921
CREATED:20240327T000517Z
LAST-MODIFIED:20240327T000517Z
UID:2309-1712437200-1712446200@verynorthcounty.com
SUMMARY:STRFKR
DESCRIPTION:
URL:https://verynorthcounty.com/event/strfkr/
LOCATION:The Sound\, 2260 Jimmy Durante Blvd\, Del Mar\, 92014\, United States
CATEGORIES:Concert
ATTACH;FMTTYPE=image/jpeg:https://verynorthcounty.com/wp-content/uploads/2024/03/STRFKR.jpeg
END:VEVENT
BEGIN:VEVENT
DTSTART;TZID=UTC:20240402T210000
DTEND;TZID=UTC:20240402T233000
DTSTAMP:20260425T052921
CREATED:20240326T234914Z
LAST-MODIFIED:20240326T234914Z
UID:2293-1712091600-1712100600@verynorthcounty.com
SUMMARY:Melissa Etheridge
DESCRIPTION:
URL:https://verynorthcounty.com/event/melissa-etheridge-2/
LOCATION:CA
CATEGORIES:Concert
ATTACH;FMTTYPE=image/webp:https://verynorthcounty.com/wp-content/uploads/2024/03/190117_S02_0108_RW.webp
END:VEVENT
BEGIN:VEVENT
DTSTART;TZID=UTC:20240401T210000
DTEND;TZID=UTC:20240401T233000
DTSTAMP:20260425T052921
CREATED:20240326T234707Z
LAST-MODIFIED:20240326T234707Z
UID:2289-1712005200-1712014200@verynorthcounty.com
SUMMARY:Melissa Etheridge
DESCRIPTION:
URL:https://verynorthcounty.com/event/melissa-etheridge/
LOCATION:Belly Up\, 143 S. Cedros Ave\, Solana Beach\, 92075\, United States
CATEGORIES:Concert
ATTACH;FMTTYPE=image/webp:https://verynorthcounty.com/wp-content/uploads/2024/03/190117_S02_0108_RW.webp
END:VEVENT
BEGIN:VEVENT
DTSTART;TZID=UTC:20240326T100000
DTEND;TZID=UTC:20240505T190000
DTSTAMP:20260425T052921
CREATED:20240327T001421Z
LAST-MODIFIED:20240327T001421Z
UID:2315-1711447200-1714935600@verynorthcounty.com
SUMMARY:Beyond Van Gogh + Monet
DESCRIPTION:
URL:https://verynorthcounty.com/event/beyond-van-gogh-monet/
LOCATION:Del Mar Fairgrounds\, 2260 Jimmy Durante Blvd\, Del Mar\, CA\, 92014\, United States
CATEGORIES:Attraction
ATTACH;FMTTYPE=image/jpeg:https://verynorthcounty.com/wp-content/uploads/2024/03/Beyond-VanGogh-Monet.jpeg
END:VEVENT
BEGIN:VEVENT
DTSTART;TZID=UTC:20240309T200000
DTEND;TZID=UTC:20240309T230000
DTSTAMP:20260425T052921
CREATED:20240123T034813Z
LAST-MODIFIED:20240123T034813Z
UID:1553-1710014400-1710025200@verynorthcounty.com
SUMMARY:Sierra Ferrell
DESCRIPTION:
URL:https://verynorthcounty.com/event/sierra-ferrell/
LOCATION:The Sound\, 2260 Jimmy Durante Blvd\, Del Mar\, 92014\, United States
CATEGORIES:Concert
ATTACH;FMTTYPE=image/jpeg:https://verynorthcounty.com/wp-content/uploads/2024/01/sierra-ferrell-20210602.jpeg
END:VEVENT
BEGIN:VEVENT
DTSTART;TZID=UTC:20240217T080000
DTEND;TZID=UTC:20240218T230000
DTSTAMP:20260425T052921
CREATED:20240123T034625Z
LAST-MODIFIED:20240123T034625Z
UID:1550-1708156800-1708297200@verynorthcounty.com
SUMMARY:Ween
DESCRIPTION:
URL:https://verynorthcounty.com/event/ween/
LOCATION:The Sound\, 2260 Jimmy Durante Blvd\, Del Mar\, 92014\, United States
CATEGORIES:Concert
ATTACH;FMTTYPE=image/webp:https://verynorthcounty.com/wp-content/uploads/2024/01/rs-216717-GettyImages-132834094-scaled.webp
END:VEVENT
BEGIN:VEVENT
DTSTART;TZID=UTC:20240212T190000
DTEND;TZID=UTC:20240212T230000
DTSTAMP:20260425T052921
CREATED:20240124T082255Z
LAST-MODIFIED:20240124T082255Z
UID:1579-1707764400-1707778800@verynorthcounty.com
SUMMARY:Yo La Tengo
DESCRIPTION:
URL:https://verynorthcounty.com/event/yo-la-tengo/
LOCATION:Belly Up\, 143 S. Cedros Ave\, Solana Beach\, 92075\, United States
CATEGORIES:Concert
ATTACH;FMTTYPE=image/webp:https://verynorthcounty.com/wp-content/uploads/2024/01/Larson-Yo-La-Tengo.webp
END:VEVENT
BEGIN:VEVENT
DTSTART;TZID=UTC:20240211T070000
DTEND;TZID=UTC:20240211T110000
DTSTAMP:20260425T052921
CREATED:20240126T101446Z
LAST-MODIFIED:20240126T101801Z
UID:1664-1707634800-1707649200@verynorthcounty.com
SUMMARY:The Kook Run
DESCRIPTION:
URL:https://verynorthcounty.com/event/the-kook-run/
LOCATION:Downtown Encinitas\, 101 E. D Street\, Encinitas\, CA\, 92024\, United States
CATEGORIES:Race
ATTACH;FMTTYPE=image/jpeg:https://verynorthcounty.com/wp-content/uploads/2024/01/81d268_f5337d97302949f780931d3b2b7f626dmv2.jpg
END:VEVENT
BEGIN:VEVENT
DTSTART;TZID=UTC:20240203T110000
DTEND;TZID=UTC:20240204T160000
DTSTAMP:20260425T052921
CREATED:20240123T040135Z
LAST-MODIFIED:20240123T040202Z
UID:1557-1706958000-1707062400@verynorthcounty.com
SUMMARY:Temecula Valley Wine Country Barrel Tasting
DESCRIPTION:
URL:https://verynorthcounty.com/event/temecula-valley-wine-country-barrel-tasting/
LOCATION:Temecula
CATEGORIES:Food & Wine
ATTACH;FMTTYPE=image/webp:https://verynorthcounty.com/wp-content/uploads/2024/01/shutterstock-1816856063-6___09181229586.webp
END:VEVENT
BEGIN:VEVENT
DTSTART;TZID=UTC:20240202T200000
DTEND;TZID=UTC:20240202T230000
DTSTAMP:20260425T052921
CREATED:20240123T034307Z
LAST-MODIFIED:20240123T034307Z
UID:1547-1706904000-1706914800@verynorthcounty.com
SUMMARY:Portugal. The Man
DESCRIPTION:
URL:https://verynorthcounty.com/event/portugal-the-man/
LOCATION:The Sound\, 2260 Jimmy Durante Blvd\, Del Mar\, 92014\, United States
CATEGORIES:Concert
ATTACH;FMTTYPE=image/jpeg:https://verynorthcounty.com/wp-content/uploads/2024/01/MV5BYzU2M2U2NDktZmQzMC00Y2VlLWJkNDgtYzk5ZDJjZmJiNmIxXkEyXkFqcGdeQXVyNTI5NjIyMw@@._V1_.jpg
END:VEVENT
BEGIN:VEVENT
DTSTART;TZID=UTC:20240201T000000
DTEND;TZID=UTC:20240229T235900
DTSTAMP:20260425T052921
CREATED:20240202T070019Z
LAST-MODIFIED:20240202T082314Z
UID:2007-1706745600-1709251140@verynorthcounty.com
SUMMARY:Museum Month 2024
DESCRIPTION:
URL:https://verynorthcounty.com/event/museum-month-2024/
LOCATION:CA
ATTACH;FMTTYPE=image/jpeg:https://verynorthcounty.com/wp-content/uploads/2024/02/Museum-Month-2024-social-1.jpg
END:VEVENT
BEGIN:VEVENT
DTSTART;TZID=UTC:20240127T000000
DTEND;TZID=UTC:20240219T000000
DTSTAMP:20260425T052921
CREATED:20240128T100703Z
LAST-MODIFIED:20240128T100703Z
UID:1669-1706313600-1708300800@verynorthcounty.com
SUMMARY:Circus Vargas
DESCRIPTION:
URL:https://verynorthcounty.com/event/circus-vargas/
LOCATION:North County Mall\, 272 E. Via Rancho Parkway\, Escondido\, CA\, 92025\, United States
ATTACH;FMTTYPE=image/webp:https://verynorthcounty.com/wp-content/uploads/2024/01/CircusVargas2web.jpg.webp
END:VEVENT
BEGIN:VEVENT
DTSTART;TZID=UTC:20240125T203000
DTEND;TZID=UTC:20240125T230000
DTSTAMP:20260425T052921
CREATED:20231201T045910Z
LAST-MODIFIED:20231215T034602Z
UID:789-1706214600-1706223600@verynorthcounty.com
SUMMARY:Poolside
DESCRIPTION:
URL:https://verynorthcounty.com/event/poolside/
LOCATION:The Sound\, 2260 Jimmy Durante Blvd\, Del Mar\, 92014\, United States
CATEGORIES:Concert
ATTACH;FMTTYPE=image/jpeg:https://verynorthcounty.com/wp-content/uploads/2023/11/Poolside_3639-LoResDustinABeatty.jpeg
END:VEVENT
BEGIN:VEVENT
DTSTART;TZID=UTC:20240107T200000
DTEND;TZID=UTC:20240107T230000
DTSTAMP:20260425T052921
CREATED:20231215T033033Z
LAST-MODIFIED:20231219T132136Z
UID:1384-1704657600-1704668400@verynorthcounty.com
SUMMARY:Adam Corolla & Friends
DESCRIPTION:
URL:https://verynorthcounty.com/event/adam-corolla-friends/
LOCATION:Belly Up\, 143 S. Cedros Ave\, Solana Beach\, 92075\, United States
CATEGORIES:Concert
ATTACH;FMTTYPE=image/jpeg:https://verynorthcounty.com/wp-content/uploads/2023/12/adam-carolla-tickets-1.jpg
END:VEVENT
BEGIN:VEVENT
DTSTART;TZID=UTC:20231231T203000
DTEND;TZID=UTC:20231231T203000
DTSTAMP:20260425T052921
CREATED:20231201T045557Z
LAST-MODIFIED:20231201T045557Z
UID:786-1704054600-1704054600@verynorthcounty.com
SUMMARY:Thievery Corporation
DESCRIPTION:
URL:https://verynorthcounty.com/event/thievery-corporation/
LOCATION:Belly Up\, 143 S. Cedros Ave\, Solana Beach\, 92075\, United States
CATEGORIES:Concert
ATTACH;FMTTYPE=image/webp:https://verynorthcounty.com/wp-content/uploads/2023/11/thieverycorporation_wide-8d16201cd9d37c1c59fa5c4a4ceb39405581b486-s1600-c85.webp
END:VEVENT
BEGIN:VEVENT
DTSTART;TZID=UTC:20231222T203000
DTEND;TZID=UTC:20231222T230000
DTSTAMP:20260425T052921
CREATED:20231201T045340Z
LAST-MODIFIED:20231201T045340Z
UID:782-1703277000-1703286000@verynorthcounty.com
SUMMARY:Los Lobos
DESCRIPTION:
URL:https://verynorthcounty.com/event/los-lobos/
LOCATION:Belly Up\, 143 S. Cedros Ave\, Solana Beach\, 92075\, United States
CATEGORIES:Concert
ATTACH;FMTTYPE=image/webp:https://verynorthcounty.com/wp-content/uploads/2023/11/Los-Lobos.webp
END:VEVENT
BEGIN:VEVENT
DTSTART;TZID=UTC:20231202T170000
DTEND;TZID=UTC:20231202T200000
DTSTAMP:20260425T052921
CREATED:20231117T071203Z
LAST-MODIFIED:20231117T071203Z
UID:695-1701536400-1701547200@verynorthcounty.com
SUMMARY:Holiday at the Rancho
DESCRIPTION:
URL:https://verynorthcounty.com/event/holiday-at-the-rancho/
LOCATION:Leo Carillo Ranch Historial Park\, 6200 Flying Leo Carrillo Ln\, Carlsbad\, CA\, United States
ATTACH;FMTTYPE=image/jpeg:https://verynorthcounty.com/wp-content/uploads/2023/11/637964979782400000.jpeg
END:VEVENT
BEGIN:VEVENT
DTSTART;TZID=UTC:20231124T173000
DTEND;TZID=UTC:20231124T220000
DTSTAMP:20260425T052921
CREATED:20231117T070741Z
LAST-MODIFIED:20231117T070741Z
UID:690-1700847000-1700863200@verynorthcounty.com
SUMMARY:Light Up The Park: Temecula Light Ceremony
DESCRIPTION:
URL:https://verynorthcounty.com/event/light-up-the-park-temecula-light-ceremony/
LOCATION:Temecula
ATTACH;FMTTYPE=image/jpeg:https://verynorthcounty.com/wp-content/uploads/2023/11/SouthCoastWineryResortSpa_Tree-Lighting-2_ACA4DB75-C817-A524-5C143903ED2BA9EA_aca8bb2f-ac0c-531b-bdb85b2eedcaff86.jpeg
END:VEVENT
BEGIN:VEVENT
DTSTART;TZID=UTC:20230921T200000
DTEND;TZID=UTC:20230921T230000
DTSTAMP:20260425T052921
CREATED:20230713T021942Z
LAST-MODIFIED:20230713T021942Z
UID:206-1695326400-1695337200@verynorthcounty.com
SUMMARY:Jai Wolf
DESCRIPTION:
URL:https://verynorthcounty.com/event/jai-wolf/
LOCATION:The Sound\, 2260 Jimmy Durante Blvd\, Del Mar\, 92014\, United States
CATEGORIES:Concert
ATTACH;FMTTYPE=image/jpeg:https://verynorthcounty.com/wp-content/uploads/2023/07/jai.jpeg
END:VEVENT
BEGIN:VEVENT
DTSTART;TZID=UTC:20230909T110000
DTEND;TZID=UTC:20230910T170000
DTSTAMP:20260425T052921
CREATED:20230713T014904Z
LAST-MODIFIED:20230713T014904Z
UID:198-1694257200-1694365200@verynorthcounty.com
SUMMARY:4th Annual ArtWalk
DESCRIPTION:
URL:https://verynorthcounty.com/event/4th-annual-artwalk/
LOCATION:Carlsbad Village\, Armanda Drive (above Flower Fields)\, Carlsbad\, CA\, 92008\, United States
CATEGORIES:Concert
ATTACH;FMTTYPE=image/jpeg:https://verynorthcounty.com/wp-content/uploads/2023/07/ArtWalk-Carlsbad-2018.jpeg
END:VEVENT
END:VCALENDAR