BEGIN:VCALENDAR
VERSION:2.0
PRODID:-//Very North County - ECPv6.15.13//NONSGML v1.0//EN
CALSCALE:GREGORIAN
METHOD:PUBLISH
X-WR-CALNAME:Very North County
X-ORIGINAL-URL:https://verynorthcounty.com
X-WR-CALDESC:Events for Very North County
REFRESH-INTERVAL;VALUE=DURATION:PT1H
X-Robots-Tag:noindex
X-PUBLISHED-TTL:PT1H
BEGIN:VTIMEZONE
TZID:UTC
BEGIN:STANDARD
TZOFFSETFROM:+0000
TZOFFSETTO:+0000
TZNAME:UTC
DTSTART:20240101T000000
END:STANDARD
END:VTIMEZONE
BEGIN:VTIMEZONE
TZID:America/Los_Angeles
BEGIN:DAYLIGHT
TZOFFSETFROM:-0800
TZOFFSETTO:-0700
TZNAME:PDT
DTSTART:20240310T100000
END:DAYLIGHT
BEGIN:STANDARD
TZOFFSETFROM:-0700
TZOFFSETTO:-0800
TZNAME:PST
DTSTART:20241103T090000
END:STANDARD
BEGIN:DAYLIGHT
TZOFFSETFROM:-0800
TZOFFSETTO:-0700
TZNAME:PDT
DTSTART:20250309T100000
END:DAYLIGHT
BEGIN:STANDARD
TZOFFSETFROM:-0700
TZOFFSETTO:-0800
TZNAME:PST
DTSTART:20251102T090000
END:STANDARD
BEGIN:DAYLIGHT
TZOFFSETFROM:-0800
TZOFFSETTO:-0700
TZNAME:PDT
DTSTART:20260308T100000
END:DAYLIGHT
BEGIN:STANDARD
TZOFFSETFROM:-0700
TZOFFSETTO:-0800
TZNAME:PST
DTSTART:20261101T090000
END:STANDARD
BEGIN:DAYLIGHT
TZOFFSETFROM:-0800
TZOFFSETTO:-0700
TZNAME:PDT
DTSTART:20270314T100000
END:DAYLIGHT
BEGIN:STANDARD
TZOFFSETFROM:-0700
TZOFFSETTO:-0800
TZNAME:PST
DTSTART:20271107T090000
END:STANDARD
END:VTIMEZONE
BEGIN:VEVENT
DTSTART;TZID=UTC:20250823T130000
DTEND;TZID=UTC:20250823T180000
DTSTAMP:20260425T065627
CREATED:20240712T040214Z
LAST-MODIFIED:20250623T165456Z
UID:3548-1755954000-1755972000@verynorthcounty.com
SUMMARY:Taste of New Orleans
DESCRIPTION:
URL:https://verynorthcounty.com/event/taste-of-new-orleans-2/
LOCATION:Del Mar Fairgrounds\, 2260 Jimmy Durante Blvd\, Del Mar\, CA\, 92014\, United States
CATEGORIES:Festival,Food & Wine
ATTACH;FMTTYPE=image/png:https://verynorthcounty.com/wp-content/uploads/2024/07/Screen-Shot-2024-07-11-at-2.00.16-PM.png
END:VEVENT
BEGIN:VEVENT
DTSTART;TZID=America/Los_Angeles:20250824T170000
DTEND;TZID=America/Los_Angeles:20250824T213000
DTSTAMP:20260425T065627
CREATED:20250711T194950Z
LAST-MODIFIED:20250711T195004Z
UID:5800-1756054800-1756071000@verynorthcounty.com
SUMMARY:A Taste of Magic: Intimate Prix-Fixe Dinner and Magic Show
DESCRIPTION:
URL:https://verynorthcounty.com/event/a-taste-of-magic-intimate-prix-fixe-dinner-and-magic-show/
LOCATION:Four Seasons Residence Club Aviara\, 7210 Blue Heron Pl.\, Carlsbad\, 92011\, United States
CATEGORIES:Food & Wine
ATTACH;FMTTYPE=image/jpeg:https://verynorthcounty.com/wp-content/uploads/2025/07/smaller-scaled.jpg
END:VEVENT
BEGIN:VEVENT
DTSTART;TZID=UTC:20250826T173000
DTEND;TZID=UTC:20250826T203000
DTSTAMP:20260425T065627
CREATED:20240712T041501Z
LAST-MODIFIED:20250624T003202Z
UID:3554-1756229400-1756240200@verynorthcounty.com
SUMMARY:Taste of Encinitas
DESCRIPTION:
URL:https://verynorthcounty.com/event/taste-of-encinitas/
LOCATION:Encinitas
CATEGORIES:Festival,Food & Wine
ATTACH;FMTTYPE=image/jpeg:https://verynorthcounty.com/wp-content/uploads/2024/07/e-101-tasteofencinitas-2023-summerkellogg-6188-1-scaled.jpeg
END:VEVENT
BEGIN:VEVENT
DTSTART;TZID=UTC:20250910T120000
DTEND;TZID=UTC:20250914T160000
DTSTAMP:20260425T065627
CREATED:20240712T042834Z
LAST-MODIFIED:20250624T004007Z
UID:3560-1757505600-1757865600@verynorthcounty.com
SUMMARY:Del Mar Food & Wine Festival
DESCRIPTION:
URL:https://verynorthcounty.com/event/del-mar-food-wine-festival-2/
LOCATION:Surf Sports Park\, 14989 Via De La Valle\, Del Mar\, CA\, 92014\, United States
CATEGORIES:Festival,Food & Wine
ATTACH;FMTTYPE=image/png:https://verynorthcounty.com/wp-content/uploads/2024/07/Screen-Shot-2024-07-11-at-2.27.09-PM.png
END:VEVENT
BEGIN:VEVENT
DTSTART;TZID=America/Los_Angeles:20250913T090000
DTEND;TZID=America/Los_Angeles:20250913T110000
DTSTAMP:20260425T065627
CREATED:20250910T224703Z
LAST-MODIFIED:20250910T224703Z
UID:6077-1757754000-1757761200@verynorthcounty.com
SUMMARY:Christophe Rull Patisserie Grand Opening at North City
DESCRIPTION:
URL:https://verynorthcounty.com/event/christophe-rull-patisserie-grand-opening-at-north-city/
LOCATION:North City\, 255 Redel Road\, San Marcos\, CA\, 92078
CATEGORIES:Food & Wine
ATTACH;FMTTYPE=image/jpeg:https://verynorthcounty.com/wp-content/uploads/2025/09/Chef-Christophe-3-1-scaled.jpg
END:VEVENT
BEGIN:VEVENT
DTSTART;TZID=UTC:20251003T170000
DTEND;TZID=UTC:20251004T170000
DTSTAMP:20260425T065627
CREATED:20240904T172949Z
LAST-MODIFIED:20250907T165823Z
UID:4027-1759510800-1759597200@verynorthcounty.com
SUMMARY:Taste of Oceanside
DESCRIPTION:
URL:https://verynorthcounty.com/event/taste-of-oceanside/
LOCATION:MainStreet Oceanside\, 701 Mission Avenue\, Oceanside\, CA\, 92054
CATEGORIES:Festival,Food & Wine
ATTACH;FMTTYPE=image/png:https://verynorthcounty.com/wp-content/uploads/2024/09/Taste-of-Oceanside-logo-2019.png
END:VEVENT
BEGIN:VEVENT
DTSTART;TZID=America/Los_Angeles:20251009T170000
DTEND;TZID=America/Los_Angeles:20251009T200000
DTSTAMP:20260425T065627
CREATED:20250907T170700Z
LAST-MODIFIED:20250907T170700Z
UID:6021-1760029200-1760040000@verynorthcounty.com
SUMMARY:Taste of Carlsbad Village
DESCRIPTION:
URL:https://verynorthcounty.com/event/taste-of-carlsbad-village/
LOCATION:CA
CATEGORIES:Festival,Food & Wine
ATTACH;FMTTYPE=image/png:https://verynorthcounty.com/wp-content/uploads/2025/09/Screen-Shot-2025-09-07-at-10.00.32-AM.png
END:VEVENT
BEGIN:VEVENT
DTSTART;TZID=America/Los_Angeles:20251025T180000
DTEND;TZID=America/Los_Angeles:20251025T203000
DTSTAMP:20260425T065627
CREATED:20250910T224940Z
LAST-MODIFIED:20251014T165618Z
UID:6080-1761415200-1761424200@verynorthcounty.com
SUMMARY:The Dinner Detective Interactive Murder Mystery Dinner Show
DESCRIPTION:
URL:https://verynorthcounty.com/event/the-dinner-detective-interactive-murder-mystery-dinner-show-grand-opening/
LOCATION:The Cassara Carlsbad Tapestry Collection by Hilton\, 5805 Armada Dr\, Carlsbad\, CA\, 92008\, United States
CATEGORIES:Food & Wine,Theater
ATTACH;FMTTYPE=image/png:https://verynorthcounty.com/wp-content/uploads/2025/09/DD-Square-Logo-Tagline-v4.png
END:VEVENT
BEGIN:VEVENT
DTSTART;TZID=UTC:20251207T130000
DTEND;TZID=UTC:20251207T160000
DTSTAMP:20260425T065627
CREATED:20240712T042232Z
LAST-MODIFIED:20250624T003352Z
UID:3556-1765112400-1765123200@verynorthcounty.com
SUMMARY:Del Mar Village Winter Taste & Sip
DESCRIPTION:
URL:https://verynorthcounty.com/event/del-mar-village-winter-taste-sip/
LOCATION:Del Mar Village\, Del Mar\, CA\, 92014\, United States
CATEGORIES:Festival,Food & Wine
ATTACH;FMTTYPE=image/jpeg:https://verynorthcounty.com/wp-content/uploads/2024/07/319310705_846826696443909_546832167698298728_n.jpg
END:VEVENT
BEGIN:VEVENT
DTSTART;TZID=America/Los_Angeles:20260201T080000
DTEND;TZID=America/Los_Angeles:20260208T170000
DTSTAMP:20260425T065627
CREATED:20250907T151531Z
LAST-MODIFIED:20260122T044630Z
UID:6011-1769932800-1770570000@verynorthcounty.com
SUMMARY:San Diego Restaurant Week
DESCRIPTION:
URL:https://verynorthcounty.com/event/san-diego-restaurant-week/
LOCATION:County-Wide
CATEGORIES:Food & Wine
ATTACH;FMTTYPE=image/webp:https://verynorthcounty.com/wp-content/uploads/2025/09/vintana-escondido-via-vintana-768x1152-1-e1757258317823.webp
END:VEVENT
BEGIN:VEVENT
DTSTART;TZID=America/Los_Angeles:20260419T090000
DTEND;TZID=America/Los_Angeles:20260419T170000
DTSTAMP:20260425T065627
CREATED:20260303T184235Z
LAST-MODIFIED:20260303T184235Z
UID:8292-1776589200-1776618000@verynorthcounty.com
SUMMARY:Fallbrook Avocado Festival
DESCRIPTION:
URL:https://verynorthcounty.com/event/fallbrook-avocado-festival/
LOCATION:Fallbrook\, Fallbrook\, CA\, United States
CATEGORIES:Festival,Food & Wine
ATTACH;FMTTYPE=image/webp:https://verynorthcounty.com/wp-content/uploads/2026/03/AvoFest-2026-v2_FINAL.png.webp
END:VEVENT
END:VCALENDAR