BEGIN:VCALENDAR
VERSION:2.0
PRODID:-//Very North County - ECPv6.15.13//NONSGML v1.0//EN
CALSCALE:GREGORIAN
METHOD:PUBLISH
X-ORIGINAL-URL:https://verynorthcounty.com
X-WR-CALDESC:Events for Very North County
REFRESH-INTERVAL;VALUE=DURATION:PT1H
X-Robots-Tag:noindex
X-PUBLISHED-TTL:PT1H
BEGIN:VTIMEZONE
TZID:UTC
BEGIN:STANDARD
TZOFFSETFROM:+0000
TZOFFSETTO:+0000
TZNAME:UTC
DTSTART:20240101T000000
END:STANDARD
END:VTIMEZONE
BEGIN:VEVENT
DTSTART;TZID=UTC:20250612T170000
DTEND;TZID=UTC:20250612T200000
DTSTAMP:20260424T044205
CREATED:20240516T094926Z
LAST-MODIFIED:20250307T015258Z
UID:2580-1749747600-1749758400@verynorthcounty.com
SUMMARY:Del Mar Village Summer Solstice
DESCRIPTION:
URL:https://verynorthcounty.com/event/del-mar-village-summer-solstice/
LOCATION:Powerhouse Park\, 1658 Coast Blvd\, Del Mar\, 92014\, United States
CATEGORIES:Food & Wine
ATTACH;FMTTYPE=image/jpeg:https://verynorthcounty.com/wp-content/uploads/2024/05/SummerSolstice-2023-VibyCreative-156_websize.jpeg
END:VEVENT
END:VCALENDAR