BEGIN:VCALENDAR
VERSION:2.0
PRODID:-//Very North County - ECPv6.15.13//NONSGML v1.0//EN
CALSCALE:GREGORIAN
METHOD:PUBLISH
X-ORIGINAL-URL:https://verynorthcounty.com
X-WR-CALDESC:Events for Very North County
REFRESH-INTERVAL;VALUE=DURATION:PT1H
X-Robots-Tag:noindex
X-PUBLISHED-TTL:PT1H
BEGIN:VTIMEZONE
TZID:UTC
BEGIN:STANDARD
TZOFFSETFROM:+0000
TZOFFSETTO:+0000
TZNAME:UTC
DTSTART:20230101T000000
END:STANDARD
END:VTIMEZONE
BEGIN:VEVENT
DTSTART;TZID=UTC:20240907T070000
DTEND;TZID=UTC:20240907T130000
DTSTAMP:20260424T191426
CREATED:20240906T234055Z
LAST-MODIFIED:20240906T234055Z
UID:4043-1725692400-1725714000@verynorthcounty.com
SUMMARY:Gelsons Hatch Chile Roasting
DESCRIPTION:
URL:https://verynorthcounty.com/event/gelsons-hatch-chile-roasting/
LOCATION:Gelson’s La Costa\, 7660 El Camino Real\, Carlsbad\, CA\, 92009\, United States
CATEGORIES:Food & Wine
ATTACH;FMTTYPE=image/webp:https://verynorthcounty.com/wp-content/uploads/2024/09/IMG_4640.webp
END:VEVENT
BEGIN:VEVENT
DTSTART;TZID=UTC:20240910T170000
DTEND;TZID=UTC:20240910T190000
DTSTAMP:20260424T191426
CREATED:20240828T205421Z
LAST-MODIFIED:20240828T205421Z
UID:3902-1725987600-1725994800@verynorthcounty.com
SUMMARY:Sip & Savor
DESCRIPTION:
URL:https://verynorthcounty.com/event/sip-savor/
LOCATION:Hilton Del Mar\, 15575 Jimmy Durante Boulevard\, Del Mar\, CA\, 92014\, United States
CATEGORIES:Food & Wine
ATTACH;FMTTYPE=image/jpeg:https://verynorthcounty.com/wp-content/uploads/2024/08/IMG_3227_t800.jpeg
END:VEVENT
BEGIN:VEVENT
DTSTART;TZID=UTC:20240914T150000
DTEND;TZID=UTC:20240914T180000
DTSTAMP:20260424T191426
CREATED:20240911T133021Z
LAST-MODIFIED:20240911T133021Z
UID:4093-1726326000-1726336800@verynorthcounty.com
SUMMARY:Fall Art & Wine Walk
DESCRIPTION:
URL:https://verynorthcounty.com/event/fall-art-wine-walk/
LOCATION:The Forum\, 1905 Calle Barcelona\, Carlsbad\, CA\, 92009
CATEGORIES:Food & Wine
ATTACH;FMTTYPE=image/png:https://verynorthcounty.com/wp-content/uploads/2024/09/fall_art__wine_walk.png
END:VEVENT
BEGIN:VEVENT
DTSTART;TZID=UTC:20240915T180000
DTEND;TZID=UTC:20240915T203000
DTSTAMP:20260424T191426
CREATED:20240911T125610Z
LAST-MODIFIED:20240911T125610Z
UID:4076-1726423200-1726432200@verynorthcounty.com
SUMMARY:Summer Dinner Series No.3
DESCRIPTION:
URL:https://verynorthcounty.com/event/summer-dinner-series-no-3/
LOCATION:GOODONYA Wine Lounge\, 1051 South Coast Highway 101\, Encinitas\, CA\, 92024
CATEGORIES:Food & Wine
ATTACH;FMTTYPE=image/png:https://verynorthcounty.com/wp-content/uploads/2024/09/httpscdn.evbuc_.comimages80749144.png
END:VEVENT
BEGIN:VEVENT
DTSTART;TZID=UTC:20240917T180000
DTEND;TZID=UTC:20240917T220000
DTSTAMP:20260424T191426
CREATED:20240819T100635Z
LAST-MODIFIED:20240819T100635Z
UID:3840-1726596000-1726610400@verynorthcounty.com
SUMMARY:Hundred Acre Wine Dinner
DESCRIPTION:
URL:https://verynorthcounty.com/event/hundred-acre-wine-dinner/
LOCATION:The Inn at Rancho Santa Fe\, 5951 Linea Del Cielo\, Rancho Santa Fe\,\, CA\, 92067\, United States
CATEGORIES:Food & Wine
ATTACH;FMTTYPE=image/png:https://verynorthcounty.com/wp-content/uploads/2024/08/Screen-Shot-2024-08-18-at-8.05.40-PM.png
END:VEVENT
BEGIN:VEVENT
DTSTART;TZID=UTC:20240929T150000
DTEND;TZID=UTC:20240929T180000
DTSTAMP:20260424T191426
CREATED:20240816T053050Z
LAST-MODIFIED:20240816T053050Z
UID:3837-1727622000-1727632800@verynorthcounty.com
SUMMARY:Taste of Rancho Santa Fe
DESCRIPTION:
URL:https://verynorthcounty.com/event/taste-of-rancho-santa-fe/
LOCATION:The Inn at Rancho Santa Fe\, 5951 Linea Del Cielo\, Rancho Santa Fe\,\, CA\, 92067\, United States
CATEGORIES:Food & Wine,Party
ATTACH;FMTTYPE=image/jpeg:https://verynorthcounty.com/wp-content/uploads/2024/08/Attend-Taste-of-RSF_20192215of277-Photo-by-Leetal-Photo_1080.jpg
END:VEVENT
END:VCALENDAR