BEGIN:VCALENDAR
VERSION:2.0
PRODID:-//Very North County - ECPv6.15.13//NONSGML v1.0//EN
CALSCALE:GREGORIAN
METHOD:PUBLISH
X-ORIGINAL-URL:https://verynorthcounty.com
X-WR-CALDESC:Events for Very North County
REFRESH-INTERVAL;VALUE=DURATION:PT1H
X-Robots-Tag:noindex
X-PUBLISHED-TTL:PT1H
BEGIN:VTIMEZONE
TZID:UTC
BEGIN:STANDARD
TZOFFSETFROM:+0000
TZOFFSETTO:+0000
TZNAME:UTC
DTSTART:20220101T000000
END:STANDARD
END:VTIMEZONE
BEGIN:VEVENT
DTSTART;TZID=UTC:20241020T110000
DTEND;TZID=UTC:20241020T170000
DTSTAMP:20260423T154601
CREATED:20240924T133841Z
LAST-MODIFIED:20240924T133841Z
UID:4242-1729422000-1729443600@verynorthcounty.com
SUMMARY:Makers & Shakers Bark Bash 2024
DESCRIPTION:
URL:https://verynorthcounty.com/event/makers-shakers-bark-bash-2024/
LOCATION:Rancho Guejito Vineyard\, 17224 San Pasqual Valley Rd\, Escondido\, CA\, 92027
CATEGORIES:Festival
ATTACH;FMTTYPE=image/png:https://verynorthcounty.com/wp-content/uploads/2024/09/Square-Post_Bark-Bash-2024.png
END:VEVENT
BEGIN:VEVENT
DTSTART;TZID=UTC:20241020T090000
DTEND;TZID=UTC:20241020T170000
DTSTAMP:20260423T154601
CREATED:20240904T160206Z
LAST-MODIFIED:20240904T171242Z
UID:3989-1729414800-1729443600@verynorthcounty.com
SUMMARY:Grand Avenue Festival
DESCRIPTION:
URL:https://verynorthcounty.com/event/grand-avenue-festival/
LOCATION:Grand Avenue\, 243 S Escondido Blvd\, Escondido\, CA\, 92025
CATEGORIES:Festival
ATTACH;FMTTYPE=image/png:https://verynorthcounty.com/wp-content/uploads/2024/09/GRAND_AVE_FESTIVAL_LOGO_10_20_24.png
END:VEVENT
BEGIN:VEVENT
DTSTART;TZID=UTC:20241013T130000
DTEND;TZID=UTC:20241013T200000
DTSTAMP:20260423T154601
CREATED:20240924T155236Z
LAST-MODIFIED:20240924T155236Z
UID:4274-1728824400-1728849600@verynorthcounty.com
SUMMARY:Encinitas Beach Run
DESCRIPTION:
URL:https://verynorthcounty.com/event/encinitas-beach-run/
LOCATION:Moonlight Beach\, 400 B St\, Encinitas\, CA\, 92024
CATEGORIES:Festival
ATTACH;FMTTYPE=image/png:https://verynorthcounty.com/wp-content/uploads/2024/09/65f7742fa5685.png
END:VEVENT
BEGIN:VEVENT
DTSTART;TZID=UTC:20241013T100000
DTEND;TZID=UTC:20241013T190000
DTSTAMP:20260423T154601
CREATED:20240924T163018Z
LAST-MODIFIED:20240924T163018Z
UID:4286-1728813600-1728846000@verynorthcounty.com
SUMMARY:Volkswagen Oktoberfest
DESCRIPTION:
URL:https://verynorthcounty.com/event/volkswagen-oktoberfest/
LOCATION:My Yard Live Beer Co.\, 288 Rancheros Drive\, San Marcos\, CA\, 92069
CATEGORIES:Festival
ATTACH;FMTTYPE=image/png:https://verynorthcounty.com/wp-content/uploads/2024/09/545adc1e-4ae4-475f-b3bf-2ca25c79.png
END:VEVENT
BEGIN:VEVENT
DTSTART;TZID=UTC:20241013T090000
DTEND;TZID=UTC:20241013T170000
DTSTAMP:20260423T154601
CREATED:20240904T155419Z
LAST-MODIFIED:20240904T155419Z
UID:3985-1728810000-1728838800@verynorthcounty.com
SUMMARY:San Marcos Harvest Fest
DESCRIPTION:
URL:https://verynorthcounty.com/event/san-marcos-harvest-fest/
LOCATION:North City\, 255 Redel Road\, San Marcos\, CA\, 92078
CATEGORIES:Festival
ATTACH;FMTTYPE=image/png:https://verynorthcounty.com/wp-content/uploads/2024/09/2024_Harvest_Fest_FB_Event_Cover.png
END:VEVENT
BEGIN:VEVENT
DTSTART;TZID=UTC:20241006T110000
DTEND;TZID=UTC:20241006T170000
DTSTAMP:20260423T154601
CREATED:20240924T133124Z
LAST-MODIFIED:20240924T133124Z
UID:4238-1728212400-1728234000@verynorthcounty.com
SUMMARY:Spooky Season Market – Makers & Shakers
DESCRIPTION:
URL:https://verynorthcounty.com/event/spooky-season-market-makers-shakers/
LOCATION:Rancho Guejito Vineyard\, 17224 San Pasqual Valley Rd\, Escondido\, CA\, 92027
CATEGORIES:Festival
ATTACH;FMTTYPE=image/png:https://verynorthcounty.com/wp-content/uploads/2024/09/10-SquarePost_MakersShakersOct6.png
END:VEVENT
BEGIN:VEVENT
DTSTART;TZID=UTC:20241005T180000
DTEND;TZID=UTC:20241005T220000
DTSTAMP:20260423T154601
CREATED:20240924T153812Z
LAST-MODIFIED:20240924T153812Z
UID:4270-1728151200-1728165600@verynorthcounty.com
SUMMARY:Agave After Party
DESCRIPTION:
URL:https://verynorthcounty.com/event/agave-after-party/
LOCATION:Fox Point Farms\, 1200 Fox Point Farm Lanes\, Encinitas\, CA\, 92024
CATEGORIES:Festival
ATTACH;FMTTYPE=image/png:https://verynorthcounty.com/wp-content/uploads/2024/09/dmwff24-ftr-oct5-agave-after-par.png
END:VEVENT
BEGIN:VEVENT
DTSTART;TZID=UTC:20241004T170000
DTEND;TZID=UTC:20241006T210000
DTSTAMP:20260423T154601
CREATED:20240904T152352Z
LAST-MODIFIED:20241009T005226Z
UID:3974-1728061200-1728248400@verynorthcounty.com
SUMMARY:San Diego Tijuana International Jazz Festival
DESCRIPTION:
URL:https://verynorthcounty.com/event/san-diego-tijuana-international-jazz-festival/
LOCATION:California Center for the Arts\, Escondido\, 340 N. Escondido Boulevard\, Escondido\, CA\, 92025
CATEGORIES:Festival
ATTACH;FMTTYPE=image/png:https://verynorthcounty.com/wp-content/uploads/2024/09/temptjfest_QhvFfmY_t800.png
END:VEVENT
BEGIN:VEVENT
DTSTART;TZID=UTC:20240928T140000
DTEND;TZID=UTC:20240928T180000
DTSTAMP:20260423T154601
CREATED:20240924T161200Z
LAST-MODIFIED:20240924T161200Z
UID:4282-1727532000-1727546400@verynorthcounty.com
SUMMARY:Oktoberfest
DESCRIPTION:
URL:https://verynorthcounty.com/event/oktoberfest/
LOCATION:One Paseo\, 3725 Paseo Place\, San Diego\, CA\, 92130
CATEGORIES:Festival
ATTACH;FMTTYPE=image/png:https://verynorthcounty.com/wp-content/uploads/2024/09/DSC00364-Tyler-Huntley-scaled-1.png
END:VEVENT
BEGIN:VEVENT
DTSTART;TZID=UTC:20240928T120000
DTEND;TZID=UTC:20240928T200000
DTSTAMP:20260423T154601
CREATED:20240924T152208Z
LAST-MODIFIED:20240924T152249Z
UID:4267-1727524800-1727553600@verynorthcounty.com
SUMMARY:Frontwave Arena Open House
DESCRIPTION:
URL:https://verynorthcounty.com/event/frontwave-arena-open-house/
LOCATION:Frontwave Arena\, 3475 Hero Drive\, Oceanside\, CA\, 92056
CATEGORIES:Festival
ATTACH;FMTTYPE=image/png:https://verynorthcounty.com/wp-content/uploads/2024/09/uploadedimage_66eb1ee01850b.png
END:VEVENT
BEGIN:VEVENT
DTSTART;TZID=UTC:20240928T100000
DTEND;TZID=UTC:20240929T180000
DTSTAMP:20260423T154601
CREATED:20240911T132158Z
LAST-MODIFIED:20240911T132158Z
UID:4089-1727517600-1727632800@verynorthcounty.com
SUMMARY:La Jolla Art & Wine Festival
DESCRIPTION:
URL:https://verynorthcounty.com/event/la-jolla-art-wine-festival/
LOCATION:La Jolla Art & Wine Festival\, Girard Avenue\, La Jolla\, CA\, 92037
CATEGORIES:Festival
ATTACH;FMTTYPE=image/png:https://verynorthcounty.com/wp-content/uploads/2024/09/943495_1abb4aac600248869add89427.png
END:VEVENT
BEGIN:VEVENT
DTSTART;TZID=UTC:20240919T090000
DTEND;TZID=UTC:20240922T190000
DTSTAMP:20260423T154601
CREATED:20240917T133533Z
LAST-MODIFIED:20240917T133533Z
UID:4149-1726736400-1727031600@verynorthcounty.com
SUMMARY:Del Mar Fairgrounds RV Show
DESCRIPTION:
URL:https://verynorthcounty.com/event/del-mar-fairgrounds-rv-show/
LOCATION:Del Mar Fairgrounds\, 2260 Jimmy Durante Blvd\, Del Mar\, CA\, 92014\, United States
CATEGORIES:Festival
ATTACH;FMTTYPE=image/png:https://verynorthcounty.com/wp-content/uploads/2024/09/776x406-b114d2d75d.png
END:VEVENT
BEGIN:VEVENT
DTSTART;TZID=UTC:20240912T170000
DTEND;TZID=UTC:20240912T190000
DTSTAMP:20260423T154601
CREATED:20240911T131726Z
LAST-MODIFIED:20240911T131726Z
UID:4085-1726160400-1726167600@verynorthcounty.com
SUMMARY:Celebrate the 100th Anniversary of Fletcher Cove!
DESCRIPTION:
URL:https://verynorthcounty.com/event/celebrate-the-100th-anniversary-of-fletcher-cove/
LOCATION:Solana Beach Civic and Historical Society\, PO Box 504\, Solana Beach\, CA\, 92075
CATEGORIES:Festival
ATTACH;FMTTYPE=image/png:https://verynorthcounty.com/wp-content/uploads/2024/09/First-Scoop-for-Dredging-with-Ed.png
END:VEVENT
BEGIN:VEVENT
DTSTART;TZID=UTC:20240907T170000
DTEND;TZID=UTC:20240907T220000
DTSTAMP:20260423T154601
CREATED:20240828T204559Z
LAST-MODIFIED:20240828T204559Z
UID:3898-1725728400-1725746400@verynorthcounty.com
SUMMARY:25th Anniversary Gala
DESCRIPTION:
URL:https://verynorthcounty.com/event/25th-anniversary-gala/
LOCATION:Alta Vista Botanical Gardens\, 1270 Vale Terrace Drive\, Vista\, CA\, 92084\, United States
CATEGORIES:Festival
ATTACH;FMTTYPE=image/jpeg:https://verynorthcounty.com/wp-content/uploads/2024/08/AVBG_Childrens_Garden_Dragon_t800.jpg
END:VEVENT
BEGIN:VEVENT
DTSTART;TZID=UTC:20240831T140000
DTEND;TZID=UTC:20240831T190000
DTSTAMP:20260423T154601
CREATED:20240828T203845Z
LAST-MODIFIED:20240828T203845Z
UID:3891-1725112800-1725130800@verynorthcounty.com
SUMMARY:Vista Vibes Mini Music Festival
DESCRIPTION:
URL:https://verynorthcounty.com/event/vista-vibes-mini-music-festival/
LOCATION:Local Roots Kombucha\, 1430 Vantage Court Suite 101\, San Diego\, 92081\, United States
CATEGORIES:Concert,Festival
ATTACH;FMTTYPE=image/png:https://verynorthcounty.com/wp-content/uploads/2024/08/Screenshot_2024-07-22_at_1.43.54_PM_t800.png
END:VEVENT
BEGIN:VEVENT
DTSTART;TZID=UTC:20240704T170000
DTEND;TZID=UTC:20240704T213000
DTSTAMP:20260423T154601
CREATED:20240618T220500Z
LAST-MODIFIED:20240618T220500Z
UID:3266-1720112400-1720128600@verynorthcounty.com
SUMMARY:59th Annual Independence Day Festival
DESCRIPTION:
URL:https://verynorthcounty.com/event/59th-annual-independence-day-festival/
LOCATION:Escondido Center for the Arts\, 340 N Escondido Blvd\, Escondido\, CA\, 92025\, United States
CATEGORIES:Festival
ATTACH;FMTTYPE=image/jpeg:https://verynorthcounty.com/wp-content/uploads/2024/06/FOJ24.jpeg
END:VEVENT
BEGIN:VEVENT
DTSTART;TZID=UTC:20240503T150000
DTEND;TZID=UTC:20240505T220000
DTSTAMP:20260423T154601
CREATED:20240501T002919Z
LAST-MODIFIED:20240501T002919Z
UID:2526-1714748400-1714946400@verynorthcounty.com
SUMMARY:Foodieland Night Market
DESCRIPTION:
URL:https://verynorthcounty.com/event/foodieland-night-market/
LOCATION:Del Mar Fairgrounds\, 2260 Jimmy Durante Blvd\, Del Mar\, CA\, 92014\, United States
CATEGORIES:Festival,Food & Wine
ATTACH;FMTTYPE=image/jpeg:https://verynorthcounty.com/wp-content/uploads/2024/04/Foodieland_1080x1080.jpeg
END:VEVENT
BEGIN:VEVENT
DTSTART;TZID=UTC:20230906T130000
DTEND;TZID=UTC:20230911T160000
DTSTAMP:20260423T154601
CREATED:20230716T071733Z
LAST-MODIFIED:20230716T071733Z
UID:259-1694005200-1694448000@verynorthcounty.com
SUMMARY:Del Mar Food & Wine Festival
DESCRIPTION:
URL:https://verynorthcounty.com/event/del-mar-food-wine-festival/
LOCATION:Surf Sports Park\, 14989 Via De La Valle\, Del Mar\, CA\, 92014\, United States
CATEGORIES:Festival
ATTACH;FMTTYPE=image/jpeg:https://verynorthcounty.com/wp-content/uploads/2023/07/download-1.jpeg
END:VEVENT
BEGIN:VEVENT
DTSTART;TZID=UTC:20230805T130000
DTEND;TZID=UTC:20230805T180000
DTSTAMP:20260423T154601
CREATED:20230712T235516Z
LAST-MODIFIED:20230712T235547Z
UID:190-1691240400-1691258400@verynorthcounty.com
SUMMARY:Taste of New Orleans
DESCRIPTION:
URL:https://verynorthcounty.com/event/taste-of-new-orleans/
LOCATION:Del Mar Fairgrounds\, 2260 Jimmy Durante Blvd\, Del Mar\, CA\, 92014\, United States
CATEGORIES:Festival
ATTACH;FMTTYPE=image/png:https://verynorthcounty.com/wp-content/uploads/2023/07/Taste-of-New-Orleans.png
END:VEVENT
BEGIN:VEVENT
DTSTART;TZID=UTC:20230722T130000
DTEND;TZID=UTC:20230722T170000
DTSTAMP:20260423T154601
CREATED:20230717T014624Z
LAST-MODIFIED:20230717T014624Z
UID:272-1690030800-1690045200@verynorthcounty.com
SUMMARY:Beer Fest
DESCRIPTION:
URL:https://verynorthcounty.com/event/beer-fest/
LOCATION:Del Mar Fairgrounds\, 2260 Jimmy Durante Blvd\, Del Mar\, CA\, 92014\, United States
CATEGORIES:Festival
ATTACH;FMTTYPE=image/jpeg:https://verynorthcounty.com/wp-content/uploads/2023/07/Calendar-Beer-Fest.jpeg
END:VEVENT
END:VCALENDAR