BEGIN:VCALENDAR
VERSION:2.0
PRODID:-//Very North County - ECPv6.15.13//NONSGML v1.0//EN
CALSCALE:GREGORIAN
METHOD:PUBLISH
X-WR-CALNAME:Very North County
X-ORIGINAL-URL:https://verynorthcounty.com
X-WR-CALDESC:Events for Very North County
REFRESH-INTERVAL;VALUE=DURATION:PT1H
X-Robots-Tag:noindex
X-PUBLISHED-TTL:PT1H
BEGIN:VTIMEZONE
TZID:America/Los_Angeles
BEGIN:DAYLIGHT
TZOFFSETFROM:-0800
TZOFFSETTO:-0700
TZNAME:PDT
DTSTART:20240310T100000
END:DAYLIGHT
BEGIN:STANDARD
TZOFFSETFROM:-0700
TZOFFSETTO:-0800
TZNAME:PST
DTSTART:20241103T090000
END:STANDARD
BEGIN:DAYLIGHT
TZOFFSETFROM:-0800
TZOFFSETTO:-0700
TZNAME:PDT
DTSTART:20250309T100000
END:DAYLIGHT
BEGIN:STANDARD
TZOFFSETFROM:-0700
TZOFFSETTO:-0800
TZNAME:PST
DTSTART:20251102T090000
END:STANDARD
BEGIN:DAYLIGHT
TZOFFSETFROM:-0800
TZOFFSETTO:-0700
TZNAME:PDT
DTSTART:20260308T100000
END:DAYLIGHT
BEGIN:STANDARD
TZOFFSETFROM:-0700
TZOFFSETTO:-0800
TZNAME:PST
DTSTART:20261101T090000
END:STANDARD
BEGIN:DAYLIGHT
TZOFFSETFROM:-0800
TZOFFSETTO:-0700
TZNAME:PDT
DTSTART:20270314T100000
END:DAYLIGHT
BEGIN:STANDARD
TZOFFSETFROM:-0700
TZOFFSETTO:-0800
TZNAME:PST
DTSTART:20271107T090000
END:STANDARD
END:VTIMEZONE
BEGIN:VEVENT
DTSTART;TZID=America/Los_Angeles:20260412T090000
DTEND;TZID=America/Los_Angeles:20260412T170000
DTSTAMP:20260423T103409
CREATED:20260303T184037Z
LAST-MODIFIED:20260303T184037Z
UID:8289-1775984400-1776013200@verynorthcounty.com
SUMMARY:San Marcos Spring Fling Festival
DESCRIPTION:
URL:https://verynorthcounty.com/event/san-marcos-spring-fling-festival/
LOCATION:North City\, 255 Redel Road\, San Marcos\, CA\, 92078
CATEGORIES:Family-Friendly,Festival
ATTACH;FMTTYPE=image/png:https://verynorthcounty.com/wp-content/uploads/2026/03/EventPhotoFull_2026-Spring-Fling-Graphic.png
END:VEVENT
BEGIN:VEVENT
DTSTART;VALUE=DATE:20260201
DTEND;VALUE=DATE:20260301
DTSTAMP:20260423T103409
CREATED:20260122T044101Z
LAST-MODIFIED:20260122T044101Z
UID:7948-1769904000-1772323199@verynorthcounty.com
SUMMARY:Museum Month
DESCRIPTION:
URL:https://verynorthcounty.com/event/museum-month/
LOCATION:County-Wide
CATEGORIES:Art,Attraction,Family-Friendly
ATTACH;FMTTYPE=image/png:https://verynorthcounty.com/wp-content/uploads/2026/01/Screenshot-2026-01-21-at-8.40.22-PM.png
END:VEVENT
BEGIN:VEVENT
DTSTART;TZID=America/Los_Angeles:20251205T160000
DTEND;TZID=America/Los_Angeles:20260103T200000
DTSTAMP:20260423T103409
CREATED:20251202T182257Z
LAST-MODIFIED:20251202T182257Z
UID:7506-1764950400-1767470400@verynorthcounty.com
SUMMARY:Ups and Downtown Roller Rink
DESCRIPTION:
URL:https://verynorthcounty.com/event/ups-and-downtown-roller-rink/
LOCATION:Downtown Escondido\, Grand Ave\, Escondido\, CA\, 92025\, United States
CATEGORIES:Family-Friendly,Holiday
ATTACH;FMTTYPE=image/png:https://verynorthcounty.com/wp-content/uploads/2025/12/Screen-Shot-2025-12-02-at-10.08.58-AM.png
END:VEVENT
END:VCALENDAR