BEGIN:VCALENDAR
VERSION:2.0
PRODID:-//Very North County - ECPv6.15.13//NONSGML v1.0//EN
CALSCALE:GREGORIAN
METHOD:PUBLISH
X-WR-CALNAME:Very North County
X-ORIGINAL-URL:https://verynorthcounty.com
X-WR-CALDESC:Events for Very North County
REFRESH-INTERVAL;VALUE=DURATION:PT1H
X-Robots-Tag:noindex
X-PUBLISHED-TTL:PT1H
BEGIN:VTIMEZONE
TZID:America/Los_Angeles
BEGIN:DAYLIGHT
TZOFFSETFROM:-0800
TZOFFSETTO:-0700
TZNAME:PDT
DTSTART:20240310T100000
END:DAYLIGHT
BEGIN:STANDARD
TZOFFSETFROM:-0700
TZOFFSETTO:-0800
TZNAME:PST
DTSTART:20241103T090000
END:STANDARD
BEGIN:DAYLIGHT
TZOFFSETFROM:-0800
TZOFFSETTO:-0700
TZNAME:PDT
DTSTART:20250309T100000
END:DAYLIGHT
BEGIN:STANDARD
TZOFFSETFROM:-0700
TZOFFSETTO:-0800
TZNAME:PST
DTSTART:20251102T090000
END:STANDARD
BEGIN:DAYLIGHT
TZOFFSETFROM:-0800
TZOFFSETTO:-0700
TZNAME:PDT
DTSTART:20260308T100000
END:DAYLIGHT
BEGIN:STANDARD
TZOFFSETFROM:-0700
TZOFFSETTO:-0800
TZNAME:PST
DTSTART:20261101T090000
END:STANDARD
END:VTIMEZONE
BEGIN:VTIMEZONE
TZID:UTC
BEGIN:STANDARD
TZOFFSETFROM:+0000
TZOFFSETTO:+0000
TZNAME:UTC
DTSTART:20230101T000000
END:STANDARD
END:VTIMEZONE
BEGIN:VEVENT
DTSTART;TZID=America/Los_Angeles:20251206T190000
DTEND;TZID=America/Los_Angeles:20251206T230000
DTSTAMP:20260423T155221
CREATED:20250620T201553Z
LAST-MODIFIED:20250620T201651Z
UID:5636-1765047600-1765062000@verynorthcounty.com
SUMMARY:KSON Country Christmas
DESCRIPTION:
URL:https://verynorthcounty.com/event/kson-country-christmas-2/
LOCATION:Frontwave Arena\, 3475 Hero Drive\, Oceanside\, CA\, 92056
CATEGORIES:Concert
ATTACH;FMTTYPE=image/jpeg:https://verynorthcounty.com/wp-content/uploads/2025/06/uploadedimage_684e1a9e17702.jpg
END:VEVENT
BEGIN:VEVENT
DTSTART;TZID=America/Los_Angeles:20250919T080000
DTEND;TZID=America/Los_Angeles:20250921T170000
DTSTAMP:20260423T155221
CREATED:20250907T152030Z
LAST-MODIFIED:20250907T152030Z
UID:6014-1758268800-1758474000@verynorthcounty.com
SUMMARY:Super Girl Surf Pro & Music Festival
DESCRIPTION:
URL:https://verynorthcounty.com/event/super-girl-surf-pro-music-festival/
CATEGORIES:Concert,Sports
ATTACH;FMTTYPE=image/webp:https://verynorthcounty.com/wp-content/uploads/2025/09/Sean_Kingston_Concerts_Experiences-1-e1757258394842.webp
END:VEVENT
BEGIN:VEVENT
DTSTART;TZID=America/Los_Angeles:20250803T190000
DTEND;TZID=America/Los_Angeles:20250803T230000
DTSTAMP:20260423T155221
CREATED:20250701T221001Z
LAST-MODIFIED:20250701T221018Z
UID:5722-1754247600-1754262000@verynorthcounty.com
SUMMARY:Rick Springfield: I Want My 80s Tour
DESCRIPTION:
URL:https://verynorthcounty.com/event/rick-springfield-i-want-my-80s-tour/
LOCATION:Frontwave Arena\, 3475 Hero Drive\, Oceanside\, CA\, 92056
CATEGORIES:Concert
ATTACH;FMTTYPE=image/webp:https://verynorthcounty.com/wp-content/uploads/2025/07/IWantMy80sTour-776x406-b37acd18df.webp
END:VEVENT
BEGIN:VEVENT
DTSTART;TZID=America/Los_Angeles:20250710T190000
DTEND;TZID=America/Los_Angeles:20250710T230000
DTSTAMP:20260423T155221
CREATED:20250701T220633Z
LAST-MODIFIED:20250701T220633Z
UID:5716-1752174000-1752188400@verynorthcounty.com
SUMMARY:Dwight Yoakam
DESCRIPTION:
URL:https://verynorthcounty.com/event/dwight-yoakam/
LOCATION:Frontwave Arena\, 3475 Hero Drive\, Oceanside\, CA\, 92056
CATEGORIES:Concert
ATTACH;FMTTYPE=image/webp:https://verynorthcounty.com/wp-content/uploads/2025/07/download.webp
END:VEVENT
BEGIN:VEVENT
DTSTART;TZID=America/Los_Angeles:20250628T200000
DTEND;TZID=America/Los_Angeles:20250628T230000
DTSTAMP:20260423T155221
CREATED:20250620T192900Z
LAST-MODIFIED:20250620T192900Z
UID:5626-1751140800-1751151600@verynorthcounty.com
SUMMARY:Big Gigantic
DESCRIPTION:
URL:https://verynorthcounty.com/event/big-gigantic/
LOCATION:The Sound\, 2260 Jimmy Durante Blvd\, Del Mar\, 92014\, United States
CATEGORIES:Concert
ATTACH;FMTTYPE=image/jpeg:https://verynorthcounty.com/wp-content/uploads/2025/06/Big-Gigantic_1080x1080_2.jpg
END:VEVENT
BEGIN:VEVENT
DTSTART;TZID=America/Los_Angeles:20250626T193000
DTEND;TZID=America/Los_Angeles:20250626T220000
DTSTAMP:20260423T155221
CREATED:20250620T193439Z
LAST-MODIFIED:20250620T193439Z
UID:5632-1750966200-1750975200@verynorthcounty.com
SUMMARY:YEAH YEAH YEAHS
DESCRIPTION:
URL:https://verynorthcounty.com/event/yeah-yeah-yeahs/
LOCATION:Del Mar Fairgrounds\, 2260 Jimmy Durante Blvd\, Del Mar\, CA\, 92014\, United States
CATEGORIES:Concert
ATTACH;FMTTYPE=image/jpeg:https://verynorthcounty.com/wp-content/uploads/2025/06/Yeah-Yeah-Yeahs_1080x1080_2.jpg
END:VEVENT
BEGIN:VEVENT
DTSTART;TZID=America/Los_Angeles:20250625T190000
DTEND;TZID=America/Los_Angeles:20250625T220000
DTSTAMP:20260423T155221
CREATED:20250620T193312Z
LAST-MODIFIED:20250620T193508Z
UID:5629-1750878000-1750888800@verynorthcounty.com
SUMMARY:Quinn XCII & CHELSEA CUTLER
DESCRIPTION:
URL:https://verynorthcounty.com/event/quinn-xcii-chelsea-cutler/
LOCATION:Del Mar Fairgrounds\, 2260 Jimmy Durante Blvd\, Del Mar\, CA\, 92014\, United States
CATEGORIES:Concert
ATTACH;FMTTYPE=image/jpeg:https://verynorthcounty.com/wp-content/uploads/2025/06/Quinn-XCII-and-Chelsea-Cutler_1080x1080.jpg
END:VEVENT
BEGIN:VEVENT
DTSTART;TZID=UTC:20250531T090000
DTEND;TZID=UTC:20250601T200000
DTSTAMP:20260423T155221
CREATED:20240501T003205Z
LAST-MODIFIED:20241227T062553Z
UID:2529-1748682000-1748808000@verynorthcounty.com
SUMMARY:Fiesta del Sol
DESCRIPTION:
URL:https://verynorthcounty.com/event/fiesta-del-sol/
LOCATION:Fletcher Cove Park\, 111 S Sierra Ave\, Solana Beach\, 92075\, United States
CATEGORIES:Concert,Festival
ATTACH;FMTTYPE=image/jpeg:https://verynorthcounty.com/wp-content/uploads/2024/04/fiestadelsol.jpeg
END:VEVENT
BEGIN:VEVENT
DTSTART;TZID=UTC:20250517T143000
DTEND;TZID=UTC:20250517T163000
DTSTAMP:20260423T155221
CREATED:20250502T234332Z
LAST-MODIFIED:20250502T234332Z
UID:5245-1747492200-1747499400@verynorthcounty.com
SUMMARY:North Coast Symphony Presents “Voices of Spring”
DESCRIPTION:
URL:https://verynorthcounty.com/event/north-coast-symphony-presents-voices-of-spring/
LOCATION:San Dieguito United Methodist Church\, 170 Calle Magdalena\, Encinitas\, CA\, 92024\, United States
CATEGORIES:Concert
ATTACH;FMTTYPE=image/jpeg:https://verynorthcounty.com/wp-content/uploads/2025/05/may-2025-concert-web-copy_orig.jpg
END:VEVENT
BEGIN:VEVENT
DTSTART;TZID=UTC:20250118T193000
DTEND;TZID=UTC:20250118T230000
DTSTAMP:20260423T155221
CREATED:20240904T170447Z
LAST-MODIFIED:20240904T170447Z
UID:4020-1737228600-1737241200@verynorthcounty.com
SUMMARY:Bright Eyes
DESCRIPTION:
URL:https://verynorthcounty.com/event/bright-eyes/
LOCATION:The Sound\, 2260 Jimmy Durante Blvd\, Del Mar\, 92014\, United States
CATEGORIES:Concert
ATTACH;FMTTYPE=image/png:https://verynorthcounty.com/wp-content/uploads/2024/09/tempbrighteyes_t800.png
END:VEVENT
BEGIN:VEVENT
DTSTART;TZID=UTC:20241207T190000
DTEND;TZID=UTC:20241207T230000
DTSTAMP:20260423T155221
CREATED:20240917T133125Z
LAST-MODIFIED:20240917T133125Z
UID:4145-1733598000-1733612400@verynorthcounty.com
SUMMARY:KSON Country Christmas
DESCRIPTION:
URL:https://verynorthcounty.com/event/kson-country-christmas/
LOCATION:Frontwave Arena\, 3475 Hero Drive\, Oceanside\, CA\, 92056
CATEGORIES:Concert
ATTACH;FMTTYPE=image/png:https://verynorthcounty.com/wp-content/uploads/2024/09/776x406-b114d2d75d.png
END:VEVENT
BEGIN:VEVENT
DTSTART;TZID=UTC:20241204T200000
DTEND;TZID=UTC:20241204T230000
DTSTAMP:20260423T155221
CREATED:20241127T043543Z
LAST-MODIFIED:20241127T043543Z
UID:4450-1733342400-1733353200@verynorthcounty.com
SUMMARY:Dinosaur Jr.
DESCRIPTION:
URL:https://verynorthcounty.com/event/dinosaur-jr/
LOCATION:The Sound\, 2260 Jimmy Durante Blvd\, Del Mar\, 92014\, United States
CATEGORIES:Attraction,Concert,Fair
ATTACH;FMTTYPE=image/png:https://verynorthcounty.com/wp-content/uploads/2024/11/Screen-Shot-2024-11-26-at-12.35.05-PM.png
END:VEVENT
BEGIN:VEVENT
DTSTART;TZID=UTC:20241202T193000
DTEND;TZID=UTC:20241202T223000
DTSTAMP:20260423T155221
CREATED:20241127T043917Z
LAST-MODIFIED:20241127T043917Z
UID:4453-1733167800-1733178600@verynorthcounty.com
SUMMARY:Mannheim Steamroller Christmas
DESCRIPTION:
URL:https://verynorthcounty.com/event/mannheim-steamroller-christmas/
LOCATION:Escondido Center for the Arts\, 340 N Escondido Blvd\, Escondido\, CA\, 92025\, United States
CATEGORIES:Attraction,Concert,Fair
ATTACH;FMTTYPE=image/png:https://verynorthcounty.com/wp-content/uploads/2024/11/Screen-Shot-2024-11-26-at-12.38.35-PM.png
END:VEVENT
BEGIN:VEVENT
DTSTART;TZID=UTC:20241123T193000
DTEND;TZID=UTC:20241123T230000
DTSTAMP:20260423T155221
CREATED:20240904T170037Z
LAST-MODIFIED:20240904T170037Z
UID:4017-1732390200-1732402800@verynorthcounty.com
SUMMARY:Trevor Hall
DESCRIPTION:
URL:https://verynorthcounty.com/event/trevor-hall/
LOCATION:The Sound\, 2260 Jimmy Durante Blvd\, Del Mar\, 92014\, United States
CATEGORIES:Concert
ATTACH;FMTTYPE=image/png:https://verynorthcounty.com/wp-content/uploads/2024/09/tempTrevorHall3_t800.png
END:VEVENT
BEGIN:VEVENT
DTSTART;TZID=UTC:20241122T193000
DTEND;TZID=UTC:20241122T230000
DTSTAMP:20260423T155221
CREATED:20240904T165810Z
LAST-MODIFIED:20240904T165810Z
UID:4014-1732303800-1732316400@verynorthcounty.com
SUMMARY:Rise Against
DESCRIPTION:
URL:https://verynorthcounty.com/event/rise-against/
LOCATION:The Sound\, 2260 Jimmy Durante Blvd\, Del Mar\, 92014\, United States
CATEGORIES:Concert
ATTACH;FMTTYPE=image/png:https://verynorthcounty.com/wp-content/uploads/2024/09/tempRiseAgainstSound_t800.png
END:VEVENT
BEGIN:VEVENT
DTSTART;TZID=UTC:20241109T193000
DTEND;TZID=UTC:20241109T230000
DTSTAMP:20260423T155221
CREATED:20240904T164153Z
LAST-MODIFIED:20240904T164153Z
UID:4004-1731180600-1731193200@verynorthcounty.com
SUMMARY:Modest Mouse
DESCRIPTION:
URL:https://verynorthcounty.com/event/modest-mouse/
LOCATION:The Sound\, 2260 Jimmy Durante Blvd\, Del Mar\, 92014\, United States
CATEGORIES:Concert
ATTACH;FMTTYPE=image/png:https://verynorthcounty.com/wp-content/uploads/2024/09/tempmodestmouse_t800.png
END:VEVENT
BEGIN:VEVENT
DTSTART;TZID=UTC:20241103T193000
DTEND;TZID=UTC:20241103T230000
DTSTAMP:20260423T155221
CREATED:20240904T163806Z
LAST-MODIFIED:20240904T163806Z
UID:4001-1730662200-1730674800@verynorthcounty.com
SUMMARY:Men At Work
DESCRIPTION:
URL:https://verynorthcounty.com/event/men-at-work/
LOCATION:The Sound\, 2260 Jimmy Durante Blvd\, Del Mar\, 92014\, United States
CATEGORIES:Concert
ATTACH;FMTTYPE=image/png:https://verynorthcounty.com/wp-content/uploads/2024/09/tempMenWork_t800.png
END:VEVENT
BEGIN:VEVENT
DTSTART;TZID=UTC:20241029T190000
DTEND;TZID=UTC:20241029T230000
DTSTAMP:20260423T155221
CREATED:20240904T163134Z
LAST-MODIFIED:20240904T163134Z
UID:3998-1730228400-1730242800@verynorthcounty.com
SUMMARY:Tycho
DESCRIPTION:
URL:https://verynorthcounty.com/event/tycho/
LOCATION:The Sound\, 2260 Jimmy Durante Blvd\, Del Mar\, 92014\, United States
CATEGORIES:Concert
ATTACH;FMTTYPE=image/png:https://verynorthcounty.com/wp-content/uploads/2024/09/tempTycho_t800.png
END:VEVENT
BEGIN:VEVENT
DTSTART;TZID=UTC:20241026T193000
DTEND;TZID=UTC:20241026T230000
DTSTAMP:20260423T155221
CREATED:20240917T132824Z
LAST-MODIFIED:20240917T132824Z
UID:4142-1729971000-1729983600@verynorthcounty.com
SUMMARY:JAM'N 95.7 presents Monsters of Hiphop
DESCRIPTION:
URL:https://verynorthcounty.com/event/jamn-95-7-presents-monsters-of-hiphop/
LOCATION:Frontwave Arena\, 3475 Hero Drive\, Oceanside\, CA\, 92056
CATEGORIES:Concert
END:VEVENT
BEGIN:VEVENT
DTSTART;TZID=UTC:20241022T193000
DTEND;TZID=UTC:20241022T230000
DTSTAMP:20260423T155221
CREATED:20240904T161855Z
LAST-MODIFIED:20240904T161855Z
UID:3995-1729625400-1729638000@verynorthcounty.com
SUMMARY:Suki Waterhouse
DESCRIPTION:
URL:https://verynorthcounty.com/event/suki-waterhouse/
LOCATION:The Sound\, 2260 Jimmy Durante Blvd\, Del Mar\, 92014\, United States
CATEGORIES:Concert
ATTACH;FMTTYPE=image/png:https://verynorthcounty.com/wp-content/uploads/2024/09/tempSukiWaterhouse_t800.png
END:VEVENT
BEGIN:VEVENT
DTSTART;TZID=UTC:20241012T193000
DTEND;TZID=UTC:20241012T230000
DTSTAMP:20260423T155221
CREATED:20240904T154625Z
LAST-MODIFIED:20240904T154625Z
UID:3982-1728761400-1728774000@verynorthcounty.com
SUMMARY:Pinback: Summer in Abaddon
DESCRIPTION:
URL:https://verynorthcounty.com/event/pinback-summer-in-abaddon/
LOCATION:The Sound\, 2260 Jimmy Durante Blvd\, Del Mar\, 92014\, United States
CATEGORIES:Concert
ATTACH;FMTTYPE=image/png:https://verynorthcounty.com/wp-content/uploads/2024/09/temppinback_t800.png
END:VEVENT
BEGIN:VEVENT
DTSTART;TZID=UTC:20241012T190000
DTEND;TZID=UTC:20241012T230000
DTSTAMP:20260423T155221
CREATED:20240917T131551Z
LAST-MODIFIED:20240917T132015Z
UID:4138-1728759600-1728774000@verynorthcounty.com
SUMMARY:Rocktoberfest
DESCRIPTION:
URL:https://verynorthcounty.com/event/rocktoberfest/
LOCATION:Frontwave Arena\, 3475 Hero Drive\, Oceanside\, CA\, 92056
CATEGORIES:Concert
ATTACH;FMTTYPE=image/png:https://verynorthcounty.com/wp-content/uploads/2024/09/776x406-ff34fa51fc.png
END:VEVENT
BEGIN:VEVENT
DTSTART;TZID=UTC:20241005T193000
DTEND;TZID=UTC:20241005T230000
DTSTAMP:20260423T155221
CREATED:20240904T154250Z
LAST-MODIFIED:20240904T154250Z
UID:3978-1728156600-1728169200@verynorthcounty.com
SUMMARY:Cake
DESCRIPTION:
URL:https://verynorthcounty.com/event/cake/
LOCATION:Frontwave Arena\, 3475 Hero Drive\, Oceanside\, CA\, 92056
CATEGORIES:Concert
ATTACH;FMTTYPE=image/png:https://verynorthcounty.com/wp-content/uploads/2024/09/tempcake_t800.png
END:VEVENT
BEGIN:VEVENT
DTSTART;TZID=UTC:20240928T193000
DTEND;TZID=UTC:20240928T230000
DTSTAMP:20260423T155221
CREATED:20240904T151743Z
LAST-MODIFIED:20240904T153612Z
UID:3971-1727551800-1727564400@verynorthcounty.com
SUMMARY:Goth Babe
DESCRIPTION:
URL:https://verynorthcounty.com/event/goth-babe/
LOCATION:The Sound\, 2260 Jimmy Durante Blvd\, Del Mar\, 92014\, United States
CATEGORIES:Concert
ATTACH;FMTTYPE=image/png:https://verynorthcounty.com/wp-content/uploads/2024/09/goth_t800.png
END:VEVENT
BEGIN:VEVENT
DTSTART;TZID=UTC:20240919T193000
DTEND;TZID=UTC:20240919T230000
DTSTAMP:20260423T155221
CREATED:20240904T150141Z
LAST-MODIFIED:20240904T153810Z
UID:3966-1726774200-1726786800@verynorthcounty.com
SUMMARY:Future Islands
DESCRIPTION:
URL:https://verynorthcounty.com/event/future-islands/
LOCATION:The Sound\, 2260 Jimmy Durante Blvd\, Del Mar\, 92014\, United States
CATEGORIES:Concert
ATTACH;FMTTYPE=image/png:https://verynorthcounty.com/wp-content/uploads/2024/09/future_t800.png
END:VEVENT
BEGIN:VEVENT
DTSTART;TZID=UTC:20240914T193000
DTEND;TZID=UTC:20240914T230000
DTSTAMP:20260423T155221
CREATED:20240904T145311Z
LAST-MODIFIED:20240904T153842Z
UID:3963-1726342200-1726354800@verynorthcounty.com
SUMMARY:Rodrigo y Gabriela
DESCRIPTION:
URL:https://verynorthcounty.com/event/rodrigo-y-gabriela/
LOCATION:The Sound\, 2260 Jimmy Durante Blvd\, Del Mar\, 92014\, United States
CATEGORIES:Concert
ATTACH;FMTTYPE=image/png:https://verynorthcounty.com/wp-content/uploads/2024/09/tempRodrigo_t800.png
END:VEVENT
BEGIN:VEVENT
DTSTART;TZID=UTC:20240905T070000
DTEND;TZID=UTC:20240905T220000
DTSTAMP:20260423T155221
CREATED:20240904T141854Z
LAST-MODIFIED:20240904T143138Z
UID:3956-1725519600-1725573600@verynorthcounty.com
SUMMARY:Poolside (DJ Set)\, Chris Cote (Vinyl DJ Set)
DESCRIPTION:
URL:https://verynorthcounty.com/event/poolside-dj-set-chris-cote-vinyl-dj-set/
LOCATION:Alila Marea Beach Resort\, 2100 N Coast Highway 101\, Encinitas\, CA\, 92024
CATEGORIES:Concert
ATTACH;FMTTYPE=image/png:https://verynorthcounty.com/wp-content/uploads/2024/09/93_Edp.png
END:VEVENT
BEGIN:VEVENT
DTSTART;TZID=UTC:20240831T140000
DTEND;TZID=UTC:20240831T190000
DTSTAMP:20260423T155221
CREATED:20240828T203845Z
LAST-MODIFIED:20240828T203845Z
UID:3891-1725112800-1725130800@verynorthcounty.com
SUMMARY:Vista Vibes Mini Music Festival
DESCRIPTION:
URL:https://verynorthcounty.com/event/vista-vibes-mini-music-festival/
LOCATION:Local Roots Kombucha\, 1430 Vantage Court Suite 101\, San Diego\, 92081\, United States
CATEGORIES:Concert,Festival
ATTACH;FMTTYPE=image/png:https://verynorthcounty.com/wp-content/uploads/2024/08/Screenshot_2024-07-22_at_1.43.54_PM_t800.png
END:VEVENT
BEGIN:VEVENT
DTSTART;TZID=UTC:20240830T193000
DTEND;TZID=UTC:20240830T230000
DTSTAMP:20260423T155221
CREATED:20240828T202631Z
LAST-MODIFIED:20240828T202631Z
UID:3884-1725046200-1725058800@verynorthcounty.com
SUMMARY:Steel Pulse and The Green
DESCRIPTION:
URL:https://verynorthcounty.com/event/steel-pulse-and-the-green/
LOCATION:The Sound\, 2260 Jimmy Durante Blvd\, Del Mar\, 92014\, United States
CATEGORIES:Concert
ATTACH;FMTTYPE=image/jpeg:https://verynorthcounty.com/wp-content/uploads/2024/08/steel_t800.jpg
END:VEVENT
BEGIN:VEVENT
DTSTART;TZID=UTC:20240828T193000
DTEND;TZID=UTC:20240828T230000
DTSTAMP:20260423T155221
CREATED:20240827T035056Z
LAST-MODIFIED:20240827T035056Z
UID:3871-1724873400-1724886000@verynorthcounty.com
SUMMARY:Common and Pete Rock
DESCRIPTION:
URL:https://verynorthcounty.com/event/common-and-pete-rock/
LOCATION:The Sound\, 2260 Jimmy Durante Blvd\, Del Mar\, 92014\, United States
CATEGORIES:Concert
ATTACH;FMTTYPE=image/jpeg:https://verynorthcounty.com/wp-content/uploads/2024/08/common.jpg
END:VEVENT
END:VCALENDAR