BEGIN:VCALENDAR
VERSION:2.0
PRODID:-//Very North County - ECPv6.15.13//NONSGML v1.0//EN
CALSCALE:GREGORIAN
METHOD:PUBLISH
X-WR-CALNAME:Very North County
X-ORIGINAL-URL:https://verynorthcounty.com
X-WR-CALDESC:Events for Very North County
REFRESH-INTERVAL;VALUE=DURATION:PT1H
X-Robots-Tag:noindex
X-PUBLISHED-TTL:PT1H
BEGIN:VTIMEZONE
TZID:UTC
BEGIN:STANDARD
TZOFFSETFROM:+0000
TZOFFSETTO:+0000
TZNAME:UTC
DTSTART:20240101T000000
END:STANDARD
END:VTIMEZONE
BEGIN:VEVENT
DTSTART;TZID=UTC:20250831T123000
DTEND;TZID=UTC:20250831T173000
DTSTAMP:20260424T020750
CREATED:20240828T204219Z
LAST-MODIFIED:20250624T003152Z
UID:3895-1756643400-1756661400@verynorthcounty.com
SUMMARY:Family Fun Day
DESCRIPTION:
URL:https://verynorthcounty.com/event/family-fun-day/
LOCATION:Del Mar Thoroughbred Club\, 2260 Jimmy Durante Boulevard\, Del Mar\, CA\, 92014\, United States
CATEGORIES:Attraction
ATTACH;FMTTYPE=image/jpeg:https://verynorthcounty.com/wp-content/uploads/2024/08/Family-Day_t800.jpeg
END:VEVENT
END:VCALENDAR