BEGIN:VCALENDAR
VERSION:2.0
PRODID:-//Very North County - ECPv6.15.13//NONSGML v1.0//EN
CALSCALE:GREGORIAN
METHOD:PUBLISH
X-ORIGINAL-URL:https://verynorthcounty.com
X-WR-CALDESC:Events for Very North County
REFRESH-INTERVAL;VALUE=DURATION:PT1H
X-Robots-Tag:noindex
X-PUBLISHED-TTL:PT1H
BEGIN:VTIMEZONE
TZID:America/Los_Angeles
BEGIN:DAYLIGHT
TZOFFSETFROM:-0800
TZOFFSETTO:-0700
TZNAME:PDT
DTSTART:20240310T100000
END:DAYLIGHT
BEGIN:STANDARD
TZOFFSETFROM:-0700
TZOFFSETTO:-0800
TZNAME:PST
DTSTART:20241103T090000
END:STANDARD
BEGIN:DAYLIGHT
TZOFFSETFROM:-0800
TZOFFSETTO:-0700
TZNAME:PDT
DTSTART:20250309T100000
END:DAYLIGHT
BEGIN:STANDARD
TZOFFSETFROM:-0700
TZOFFSETTO:-0800
TZNAME:PST
DTSTART:20251102T090000
END:STANDARD
BEGIN:DAYLIGHT
TZOFFSETFROM:-0800
TZOFFSETTO:-0700
TZNAME:PDT
DTSTART:20260308T100000
END:DAYLIGHT
BEGIN:STANDARD
TZOFFSETFROM:-0700
TZOFFSETTO:-0800
TZNAME:PST
DTSTART:20261101T090000
END:STANDARD
BEGIN:DAYLIGHT
TZOFFSETFROM:-0800
TZOFFSETTO:-0700
TZNAME:PDT
DTSTART:20270314T100000
END:DAYLIGHT
BEGIN:STANDARD
TZOFFSETFROM:-0700
TZOFFSETTO:-0800
TZNAME:PST
DTSTART:20271107T090000
END:STANDARD
END:VTIMEZONE
BEGIN:VEVENT
DTSTART;TZID=America/Los_Angeles:20251205T160000
DTEND;TZID=America/Los_Angeles:20260103T200000
DTSTAMP:20260423T154240
CREATED:20251202T182257Z
LAST-MODIFIED:20251202T182257Z
UID:7506-1764950400-1767470400@verynorthcounty.com
SUMMARY:Ups and Downtown Roller Rink
DESCRIPTION:
URL:https://verynorthcounty.com/event/ups-and-downtown-roller-rink/
LOCATION:Downtown Escondido\, Grand Ave\, Escondido\, CA\, 92025\, United States
CATEGORIES:Family-Friendly,Holiday
ATTACH;FMTTYPE=image/png:https://verynorthcounty.com/wp-content/uploads/2025/12/Screen-Shot-2025-12-02-at-10.08.58-AM.png
END:VEVENT
BEGIN:VEVENT
DTSTART;TZID=America/Los_Angeles:20251213T120000
DTEND;TZID=America/Los_Angeles:20251213T153000
DTSTAMP:20260423T154240
CREATED:20251125T214956Z
LAST-MODIFIED:20251125T214956Z
UID:6985-1765627200-1765639800@verynorthcounty.com
SUMMARY:Red Nose Run
DESCRIPTION:
URL:https://verynorthcounty.com/event/red-nose-run/
LOCATION:Del Mar Powerhouse Community Center\, 1658 Coast Boulevard\, Del Mar\, CA\, 92014\, United States
CATEGORIES:Holiday,Race
ATTACH;FMTTYPE=image/jpeg:https://verynorthcounty.com/wp-content/uploads/2025/11/EventDetailsImage2.jpg
END:VEVENT
BEGIN:VEVENT
DTSTART;TZID=America/Los_Angeles:20251213T180000
DTEND;TZID=America/Los_Angeles:20251213T230000
DTSTAMP:20260423T154240
CREATED:20251125T214643Z
LAST-MODIFIED:20251125T214643Z
UID:6981-1765648800-1765666800@verynorthcounty.com
SUMMARY:34th Annual Paul Ecke\, Jr. Poinsettia Ball
DESCRIPTION:
URL:https://verynorthcounty.com/event/34th-annual-paul-ecke-jr-poinsettia-ball/
LOCATION:Magdalena Ecke Family YMCA\, 200 Saxony Rd\, Encinitas\, CA\, 92024\, United States
CATEGORIES:Community,Fundraiser
ATTACH;FMTTYPE=image/jpeg:https://verynorthcounty.com/wp-content/uploads/2025/11/Poinsettia-Ball_Blog25_ME-2-scaled-1.jpg
END:VEVENT
END:VCALENDAR