BEGIN:VCALENDAR
VERSION:2.0
PRODID:-//Very North County - ECPv6.15.13//NONSGML v1.0//EN
CALSCALE:GREGORIAN
METHOD:PUBLISH
X-ORIGINAL-URL:https://verynorthcounty.com
X-WR-CALDESC:Events for Very North County
REFRESH-INTERVAL;VALUE=DURATION:PT1H
X-Robots-Tag:noindex
X-PUBLISHED-TTL:PT1H
BEGIN:VTIMEZONE
TZID:America/Los_Angeles
BEGIN:DAYLIGHT
TZOFFSETFROM:-0800
TZOFFSETTO:-0700
TZNAME:PDT
DTSTART:20240310T100000
END:DAYLIGHT
BEGIN:STANDARD
TZOFFSETFROM:-0700
TZOFFSETTO:-0800
TZNAME:PST
DTSTART:20241103T090000
END:STANDARD
BEGIN:DAYLIGHT
TZOFFSETFROM:-0800
TZOFFSETTO:-0700
TZNAME:PDT
DTSTART:20250309T100000
END:DAYLIGHT
BEGIN:STANDARD
TZOFFSETFROM:-0700
TZOFFSETTO:-0800
TZNAME:PST
DTSTART:20251102T090000
END:STANDARD
BEGIN:DAYLIGHT
TZOFFSETFROM:-0800
TZOFFSETTO:-0700
TZNAME:PDT
DTSTART:20260308T100000
END:DAYLIGHT
BEGIN:STANDARD
TZOFFSETFROM:-0700
TZOFFSETTO:-0800
TZNAME:PST
DTSTART:20261101T090000
END:STANDARD
END:VTIMEZONE
BEGIN:VTIMEZONE
TZID:UTC
BEGIN:STANDARD
TZOFFSETFROM:+0000
TZOFFSETTO:+0000
TZNAME:UTC
DTSTART:20240101T000000
END:STANDARD
END:VTIMEZONE
BEGIN:VEVENT
DTSTART;TZID=America/Los_Angeles:20250906T080000
DTEND;TZID=America/Los_Angeles:20250913T170000
DTSTAMP:20260423T194110
CREATED:20250906T203242Z
LAST-MODIFIED:20250906T203242Z
UID:6008-1757145600-1757782800@verynorthcounty.com
SUMMARY:Oceanside Plein Art Festival
DESCRIPTION:
URL:https://verynorthcounty.com/event/oceanside-plein-art-festival/
LOCATION:Oceanside
CATEGORIES:Art
ATTACH;FMTTYPE=image/jpeg:https://verynorthcounty.com/wp-content/uploads/2025/09/plein-air.jpg
END:VEVENT
BEGIN:VEVENT
DTSTART;TZID=America/Los_Angeles:20250910T100000
DTEND;TZID=America/Los_Angeles:20251011T170000
DTSTAMP:20260423T194110
CREATED:20250827T222127Z
LAST-MODIFIED:20250827T222127Z
UID:5932-1757498400-1760202000@verynorthcounty.com
SUMMARY:RETNA Unveils "LOVE LETTER | CARTA DE AMOR" at Madison Gallery
DESCRIPTION:
URL:https://verynorthcounty.com/event/retna-unveils-love-letter-carta-de-amor-at-madison-gallery/
LOCATION:Madison Gallery\, 320 S. Cedros Ave\, Ste. 200\, Solana Beach\, CA\, 92075\, United States
CATEGORIES:Art
ATTACH;FMTTYPE=image/jpeg:https://verynorthcounty.com/wp-content/uploads/2025/08/RETNA-Madison-Gallery-.jpg
END:VEVENT
BEGIN:VEVENT
DTSTART;TZID=UTC:20250910T120000
DTEND;TZID=UTC:20250914T160000
DTSTAMP:20260423T194110
CREATED:20240712T042834Z
LAST-MODIFIED:20250624T004007Z
UID:3560-1757505600-1757865600@verynorthcounty.com
SUMMARY:Del Mar Food & Wine Festival
DESCRIPTION:
URL:https://verynorthcounty.com/event/del-mar-food-wine-festival-2/
LOCATION:Surf Sports Park\, 14989 Via De La Valle\, Del Mar\, CA\, 92014\, United States
CATEGORIES:Festival,Food & Wine
ATTACH;FMTTYPE=image/png:https://verynorthcounty.com/wp-content/uploads/2024/07/Screen-Shot-2024-07-11-at-2.27.09-PM.png
END:VEVENT
BEGIN:VEVENT
DTSTART;TZID=America/Los_Angeles:20250913T090000
DTEND;TZID=America/Los_Angeles:20250913T110000
DTSTAMP:20260423T194110
CREATED:20250910T224703Z
LAST-MODIFIED:20250910T224703Z
UID:6077-1757754000-1757761200@verynorthcounty.com
SUMMARY:Christophe Rull Patisserie Grand Opening at North City
DESCRIPTION:
URL:https://verynorthcounty.com/event/christophe-rull-patisserie-grand-opening-at-north-city/
LOCATION:North City\, 255 Redel Road\, San Marcos\, CA\, 92078
CATEGORIES:Food & Wine
ATTACH;FMTTYPE=image/jpeg:https://verynorthcounty.com/wp-content/uploads/2025/09/Chef-Christophe-3-1-scaled.jpg
END:VEVENT
BEGIN:VEVENT
DTSTART;TZID=UTC:20250913T120000
DTEND;TZID=UTC:20250913T180000
DTSTAMP:20260423T194110
CREATED:20240515T000011Z
LAST-MODIFIED:20250624T003520Z
UID:194-1757764800-1757786400@verynorthcounty.com
SUMMARY:Grape Day Festival
DESCRIPTION:
URL:https://verynorthcounty.com/event/grape-day-festival/
LOCATION:Grape Day Park\, 321 N Broadway\, Escondido\, CA\, 92025\, United States
CATEGORIES:Festival
ATTACH;FMTTYPE=image/jpeg:https://verynorthcounty.com/wp-content/uploads/2023/07/download.jpeg
END:VEVENT
END:VCALENDAR