BEGIN:VCALENDAR
VERSION:2.0
PRODID:-//Very North County - ECPv6.15.13//NONSGML v1.0//EN
CALSCALE:GREGORIAN
METHOD:PUBLISH
X-WR-CALNAME:Very North County
X-ORIGINAL-URL:https://verynorthcounty.com
X-WR-CALDESC:Events for Very North County
REFRESH-INTERVAL;VALUE=DURATION:PT1H
X-Robots-Tag:noindex
X-PUBLISHED-TTL:PT1H
BEGIN:VTIMEZONE
TZID:UTC
BEGIN:STANDARD
TZOFFSETFROM:+0000
TZOFFSETTO:+0000
TZNAME:UTC
DTSTART:20240101T000000
END:STANDARD
END:VTIMEZONE
BEGIN:VEVENT
DTSTART;TZID=UTC:20250830T133000
DTEND;TZID=UTC:20250830T190000
DTSTAMP:20260423T210015
CREATED:20230717T014948Z
LAST-MODIFIED:20250623T165339Z
UID:275-1756560600-1756580400@verynorthcounty.com
SUMMARY:Pacific Classic
DESCRIPTION:
URL:https://verynorthcounty.com/event/pacific-classic/
LOCATION:Del Mar Fairgrounds\, 2260 Jimmy Durante Blvd\, Del Mar\, CA\, 92014\, United States
CATEGORIES:Race
ATTACH;FMTTYPE=image/jpeg:https://verynorthcounty.com/wp-content/uploads/2023/07/IMG_7672_Evers.jpeg
END:VEVENT
END:VCALENDAR