BEGIN:VCALENDAR
VERSION:2.0
PRODID:-//Very North County - ECPv6.15.13//NONSGML v1.0//EN
CALSCALE:GREGORIAN
METHOD:PUBLISH
X-ORIGINAL-URL:https://verynorthcounty.com
X-WR-CALDESC:Events for Very North County
REFRESH-INTERVAL;VALUE=DURATION:PT1H
X-Robots-Tag:noindex
X-PUBLISHED-TTL:PT1H
BEGIN:VTIMEZONE
TZID:UTC
BEGIN:STANDARD
TZOFFSETFROM:+0000
TZOFFSETTO:+0000
TZNAME:UTC
DTSTART:20240101T000000
END:STANDARD
END:VTIMEZONE
BEGIN:VEVENT
DTSTART;TZID=UTC:20250809T140000
DTEND;TZID=UTC:20250809T170000
DTSTAMP:20260423T210208
CREATED:20230717T015516Z
LAST-MODIFIED:20250623T165600Z
UID:278-1754748000-1754758800@verynorthcounty.com
SUMMARY:Tacos & Tequila Festival
DESCRIPTION:
URL:https://verynorthcounty.com/event/tacos-tequila-festival/
LOCATION:Del Mar Fairgrounds\, 2260 Jimmy Durante Blvd\, Del Mar\, CA\, 92014\, United States
CATEGORIES:Festival
ATTACH;FMTTYPE=image/jpeg:https://verynorthcounty.com/wp-content/uploads/2023/07/Del-Mar-Tacos-Tequila-Fest.jpeg
END:VEVENT
END:VCALENDAR