BEGIN:VCALENDAR
VERSION:2.0
PRODID:-//Very North County - ECPv6.15.13//NONSGML v1.0//EN
CALSCALE:GREGORIAN
METHOD:PUBLISH
X-WR-CALNAME:Very North County
X-ORIGINAL-URL:https://verynorthcounty.com
X-WR-CALDESC:Events for Very North County
REFRESH-INTERVAL;VALUE=DURATION:PT1H
X-Robots-Tag:noindex
X-PUBLISHED-TTL:PT1H
BEGIN:VTIMEZONE
TZID:UTC
BEGIN:STANDARD
TZOFFSETFROM:+0000
TZOFFSETTO:+0000
TZNAME:UTC
DTSTART:20240101T000000
END:STANDARD
END:VTIMEZONE
BEGIN:VEVENT
DTSTART;TZID=UTC:20250511T090000
DTEND;TZID=UTC:20250511T220000
DTSTAMP:20260424T012514
CREATED:20250512T080058Z
LAST-MODIFIED:20250512T080135Z
UID:5505-1746954000-1747000800@verynorthcounty.com
SUMMARY:Celebrate Mother’s Day by the Sea at Del Mar Plaza
DESCRIPTION:
URL:https://verynorthcounty.com/event/celebrate-mothers-day-by-the-sea-at-del-mar-plaza/
LOCATION:Del Mar Plaza\, 1555 Camino Del Mar\, Del Mar\, CA\, 92014\, United States
ATTACH;FMTTYPE=image/jpeg:https://verynorthcounty.com/wp-content/uploads/2025/05/Del-Mar-Plaza-Mothers-Day.jpg
END:VEVENT
END:VCALENDAR