BEGIN:VCALENDAR
VERSION:2.0
PRODID:-//Very North County - ECPv6.15.13//NONSGML v1.0//EN
CALSCALE:GREGORIAN
METHOD:PUBLISH
X-WR-CALNAME:Very North County
X-ORIGINAL-URL:https://verynorthcounty.com
X-WR-CALDESC:Events for Very North County
REFRESH-INTERVAL;VALUE=DURATION:PT1H
X-Robots-Tag:noindex
X-PUBLISHED-TTL:PT1H
BEGIN:VTIMEZONE
TZID:UTC
BEGIN:STANDARD
TZOFFSETFROM:+0000
TZOFFSETTO:+0000
TZNAME:UTC
DTSTART:20230101T000000
END:STANDARD
END:VTIMEZONE
BEGIN:VEVENT
DTSTART;TZID=UTC:20241115T080000
DTEND;TZID=UTC:20250105T210000
DTSTAMP:20260424T094623
CREATED:20241227T045742Z
LAST-MODIFIED:20241227T045742Z
UID:4544-1731657600-1736110800@verynorthcounty.com
SUMMARY:Lightscape
DESCRIPTION:
URL:https://verynorthcounty.com/event/lightscape/
LOCATION:San Diego Botanic Garden\, 230 Quail Gardens Drive\, Encinitas\, 92024\, United States
CATEGORIES:Attraction
ATTACH;FMTTYPE=image/jpeg:https://verynorthcounty.com/wp-content/uploads/2023/11/LightscapeLAb-scaled-1.jpg
END:VEVENT
BEGIN:VEVENT
DTSTART;TZID=UTC:20241116T100000
DTEND;TZID=UTC:20241116T170000
DTSTAMP:20260424T094623
CREATED:20240904T164809Z
LAST-MODIFIED:20240904T164809Z
UID:4007-1731751200-1731776400@verynorthcounty.com
SUMMARY:Central Valley Reptile Expo
DESCRIPTION:
URL:https://verynorthcounty.com/event/central-valley-reptile-expo/
LOCATION:Hilton Del Mar\, 15575 Jimmy Durante Boulevard\, Del Mar\, CA\, 92014\, United States
CATEGORIES:Festival
ATTACH;FMTTYPE=image/png:https://verynorthcounty.com/wp-content/uploads/2024/09/FB_IMG_1720048033518_t800.png
END:VEVENT
BEGIN:VEVENT
DTSTART;TZID=UTC:20241116T110000
DTEND;TZID=UTC:20241116T160000
DTSTAMP:20260424T094623
CREATED:20240904T165341Z
LAST-MODIFIED:20240904T165341Z
UID:4010-1731754800-1731772800@verynorthcounty.com
SUMMARY:Valley Arts Festival
DESCRIPTION:
URL:https://verynorthcounty.com/event/valley-arts-festival/
LOCATION:Heritage Park\, 220 Peyri Road\, Oceanside\, 92058
CATEGORIES:Festival
ATTACH;FMTTYPE=image/png:https://verynorthcounty.com/wp-content/uploads/2024/09/VAF_2024_Social_Header_t800.png
END:VEVENT
END:VCALENDAR