BEGIN:VCALENDAR
VERSION:2.0
PRODID:-//Very North County - ECPv6.15.13//NONSGML v1.0//EN
CALSCALE:GREGORIAN
METHOD:PUBLISH
X-ORIGINAL-URL:https://verynorthcounty.com
X-WR-CALDESC:Events for Very North County
REFRESH-INTERVAL;VALUE=DURATION:PT1H
X-Robots-Tag:noindex
X-PUBLISHED-TTL:PT1H
BEGIN:VTIMEZONE
TZID:UTC
BEGIN:STANDARD
TZOFFSETFROM:+0000
TZOFFSETTO:+0000
TZNAME:UTC
DTSTART:20230101T000000
END:STANDARD
END:VTIMEZONE
BEGIN:VEVENT
DTSTART;TZID=UTC:20241025T090000
DTEND;TZID=UTC:20241027T170000
DTSTAMP:20260424T110505
CREATED:20240904T171922Z
LAST-MODIFIED:20240904T171922Z
UID:4023-1729846800-1730048400@verynorthcounty.com
SUMMARY:San Diego Comic Fest
DESCRIPTION:
URL:https://verynorthcounty.com/event/san-diego-comic-fest/
LOCATION:The Westin Carlsbad Resort\, 5480 Grand Pacific Dr\, Carlsvad\, CA\, 92008\, United States
CATEGORIES:Festival
ATTACH;FMTTYPE=image/png:https://verynorthcounty.com/wp-content/uploads/2024/09/sdcf2024web01.png
END:VEVENT
END:VCALENDAR