BEGIN:VCALENDAR
VERSION:2.0
PRODID:-//Very North County - ECPv6.15.13//NONSGML v1.0//EN
CALSCALE:GREGORIAN
METHOD:PUBLISH
X-WR-CALNAME:Very North County
X-ORIGINAL-URL:https://verynorthcounty.com
X-WR-CALDESC:Events for Very North County
REFRESH-INTERVAL;VALUE=DURATION:PT1H
X-Robots-Tag:noindex
X-PUBLISHED-TTL:PT1H
BEGIN:VTIMEZONE
TZID:UTC
BEGIN:STANDARD
TZOFFSETFROM:+0000
TZOFFSETTO:+0000
TZNAME:UTC
DTSTART:20230101T000000
END:STANDARD
END:VTIMEZONE
BEGIN:VEVENT
DTSTART;TZID=UTC:20240930T080000
DTEND;TZID=UTC:20241006T170000
DTSTAMP:20260424T133559
CREATED:20240911T130804Z
LAST-MODIFIED:20240911T130804Z
UID:4081-1727683200-1728234000@verynorthcounty.com
SUMMARY:RSFOPEN
DESCRIPTION:
URL:https://verynorthcounty.com/event/rsfopen/
LOCATION:RSF\, 5829 Via de la Cumbre\, Rancho Santa Fe\, CA
ATTACH;FMTTYPE=image/png:https://verynorthcounty.com/wp-content/uploads/2024/09/Website-Logo.png
END:VEVENT
BEGIN:VEVENT
DTSTART;TZID=UTC:20241004T170000
DTEND;TZID=UTC:20241006T210000
DTSTAMP:20260424T133559
CREATED:20240904T152352Z
LAST-MODIFIED:20241009T005226Z
UID:3974-1728061200-1728248400@verynorthcounty.com
SUMMARY:San Diego Tijuana International Jazz Festival
DESCRIPTION:
URL:https://verynorthcounty.com/event/san-diego-tijuana-international-jazz-festival/
LOCATION:California Center for the Arts\, Escondido\, 340 N. Escondido Boulevard\, Escondido\, CA\, 92025
CATEGORIES:Festival
ATTACH;FMTTYPE=image/png:https://verynorthcounty.com/wp-content/uploads/2024/09/temptjfest_QhvFfmY_t800.png
END:VEVENT
BEGIN:VEVENT
DTSTART;TZID=UTC:20241006T110000
DTEND;TZID=UTC:20241006T170000
DTSTAMP:20260424T133559
CREATED:20240924T133124Z
LAST-MODIFIED:20240924T133124Z
UID:4238-1728212400-1728234000@verynorthcounty.com
SUMMARY:Spooky Season Market – Makers & Shakers
DESCRIPTION:
URL:https://verynorthcounty.com/event/spooky-season-market-makers-shakers/
LOCATION:Rancho Guejito Vineyard\, 17224 San Pasqual Valley Rd\, Escondido\, CA\, 92027
CATEGORIES:Festival
ATTACH;FMTTYPE=image/png:https://verynorthcounty.com/wp-content/uploads/2024/09/10-SquarePost_MakersShakersOct6.png
END:VEVENT
END:VCALENDAR