BEGIN:VCALENDAR
VERSION:2.0
PRODID:-//Very North County - ECPv6.15.13//NONSGML v1.0//EN
CALSCALE:GREGORIAN
METHOD:PUBLISH
X-WR-CALNAME:Very North County
X-ORIGINAL-URL:https://verynorthcounty.com
X-WR-CALDESC:Events for Very North County
REFRESH-INTERVAL;VALUE=DURATION:PT1H
X-Robots-Tag:noindex
X-PUBLISHED-TTL:PT1H
BEGIN:VTIMEZONE
TZID:UTC
BEGIN:STANDARD
TZOFFSETFROM:+0000
TZOFFSETTO:+0000
TZNAME:UTC
DTSTART:20230101T000000
END:STANDARD
END:VTIMEZONE
BEGIN:VEVENT
DTSTART;TZID=UTC:20240930T080000
DTEND;TZID=UTC:20241006T170000
DTSTAMP:20260424T110401
CREATED:20240911T130804Z
LAST-MODIFIED:20240911T130804Z
UID:4081-1727683200-1728234000@verynorthcounty.com
SUMMARY:RSFOPEN
DESCRIPTION:
URL:https://verynorthcounty.com/event/rsfopen/
LOCATION:RSF\, 5829 Via de la Cumbre\, Rancho Santa Fe\, CA
ATTACH;FMTTYPE=image/png:https://verynorthcounty.com/wp-content/uploads/2024/09/Website-Logo.png
END:VEVENT
END:VCALENDAR