BEGIN:VCALENDAR
VERSION:2.0
PRODID:-//Very North County - ECPv6.15.13//NONSGML v1.0//EN
CALSCALE:GREGORIAN
METHOD:PUBLISH
X-ORIGINAL-URL:https://verynorthcounty.com
X-WR-CALDESC:Events for Very North County
REFRESH-INTERVAL;VALUE=DURATION:PT1H
X-Robots-Tag:noindex
X-PUBLISHED-TTL:PT1H
BEGIN:VTIMEZONE
TZID:UTC
BEGIN:STANDARD
TZOFFSETFROM:+0000
TZOFFSETTO:+0000
TZNAME:UTC
DTSTART:20230101T000000
END:STANDARD
END:VTIMEZONE
BEGIN:VEVENT
DTSTART;TZID=UTC:20240905T070000
DTEND;TZID=UTC:20240905T220000
DTSTAMP:20260424T121811
CREATED:20240904T141854Z
LAST-MODIFIED:20240904T143138Z
UID:3956-1725519600-1725573600@verynorthcounty.com
SUMMARY:Poolside (DJ Set)\, Chris Cote (Vinyl DJ Set)
DESCRIPTION:
URL:https://verynorthcounty.com/event/poolside-dj-set-chris-cote-vinyl-dj-set/
LOCATION:Alila Marea Beach Resort\, 2100 N Coast Highway 101\, Encinitas\, CA\, 92024
CATEGORIES:Concert
ATTACH;FMTTYPE=image/png:https://verynorthcounty.com/wp-content/uploads/2024/09/93_Edp.png
END:VEVENT
END:VCALENDAR