BEGIN:VCALENDAR
VERSION:2.0
PRODID:-//Very North County - ECPv6.15.13//NONSGML v1.0//EN
CALSCALE:GREGORIAN
METHOD:PUBLISH
X-WR-CALNAME:Very North County
X-ORIGINAL-URL:https://verynorthcounty.com
X-WR-CALDESC:Events for Very North County
REFRESH-INTERVAL;VALUE=DURATION:PT1H
X-Robots-Tag:noindex
X-PUBLISHED-TTL:PT1H
BEGIN:VTIMEZONE
TZID:UTC
BEGIN:STANDARD
TZOFFSETFROM:+0000
TZOFFSETTO:+0000
TZNAME:UTC
DTSTART:20230101T000000
END:STANDARD
END:VTIMEZONE
BEGIN:VEVENT
DTSTART;TZID=UTC:20240831T113000
DTEND;TZID=UTC:20240831T170000
DTSTAMP:20260424T122149
CREATED:20240828T203504Z
LAST-MODIFIED:20240828T203504Z
UID:3887-1725103800-1725123600@verynorthcounty.com
SUMMARY:FanDuel Racing Pacific Classic
DESCRIPTION:
URL:https://verynorthcounty.com/event/fanduel-racing-pacific-classic/
LOCATION:Del Mar Thoroughbred Club\, 2260 Jimmy Durante Boulevard\, Del Mar\, CA\, 92014\, United States
CATEGORIES:Race
ATTACH;FMTTYPE=image/jpeg:https://verynorthcounty.com/wp-content/uploads/2024/08/23-0902-delmar-2957-evers-800_t800.jpeg
END:VEVENT
BEGIN:VEVENT
DTSTART;TZID=UTC:20240831T140000
DTEND;TZID=UTC:20240831T190000
DTSTAMP:20260424T122149
CREATED:20240828T203845Z
LAST-MODIFIED:20240828T203845Z
UID:3891-1725112800-1725130800@verynorthcounty.com
SUMMARY:Vista Vibes Mini Music Festival
DESCRIPTION:
URL:https://verynorthcounty.com/event/vista-vibes-mini-music-festival/
LOCATION:Local Roots Kombucha\, 1430 Vantage Court Suite 101\, San Diego\, 92081\, United States
CATEGORIES:Concert,Festival
ATTACH;FMTTYPE=image/png:https://verynorthcounty.com/wp-content/uploads/2024/08/Screenshot_2024-07-22_at_1.43.54_PM_t800.png
END:VEVENT
END:VCALENDAR